BEGIN:VCALENDAR
VERSION:2.0
PRODID:-//wp-events-plugin.com//7.2.3.1//EN
BEGIN:VEVENT
UID:11@uniontraining.ca
DTSTART;TZID=America/Edmonton:20240606T083000
DTEND;TZID=America/Edmonton:20240608T210000
DTSTAMP:20240104T144012Z
URL:https://uniontraining.ca/events/2024-calm-conference/
SUMMARY:2024 CALM Conference
DESCRIPTION:[vc_row][vc_column][wgl_double_headings title_color="#232323" s
 ubtitle_color="#fd226a" bgtitle_color="#f3f3f3" title="CALM 2024 Conferenc
 e" subtitle="June 6-8\, 2024 Edmonton"][/vc_column][/vc_row][vc_row][vc_co
 lumn][vc_single_image image="3543" img_size="large"][/vc_column][/vc_row][
 vc_row][vc_column][vc_column_text]Save the date!\n\nOur next annual confer
 ence is scheduled for June 6-8\, 2024\n\nLocation: Chateau Lacombe\, Edmon
 ton\n\n[/vc_column_text][/vc_column][/vc_row]
ATTACH;FMTTYPE=image/jpeg:https://i0.wp.com/uniontraining.ca/wp-content/up
 loads/2024/01/Edmonton-annual.png?fit=940%2C788&ssl=1
END:VEVENT
BEGIN:VTIMEZONE
TZID:America/Edmonton
X-LIC-LOCATION:America/Edmonton
BEGIN:DAYLIGHT
DTSTART:20240310T030000
TZOFFSETFROM:-0700
TZOFFSETTO:-0600
TZNAME:MDT
END:DAYLIGHT
END:VTIMEZONE
END:VCALENDAR