BEGIN:VCALENDAR
VERSION:2.0
PRODID:-//wp-events-plugin.com//7.2.3.1//EN
BEGIN:VEVENT
UID:16@uniontraining.ca
DTSTART;TZID=America/Toronto;VALUE=DATE:20250605
DTEND;TZID=America/Toronto;VALUE=DATE:20250608
DTSTAMP:20260307T182414Z
URL:https://uniontraining.ca/events/2025-calm-conference/
SUMMARY:2025 CALM Conference
DESCRIPTION:[vc_row][vc_column][vc_empty_space][vc_column_text css=""]\n202
 5 CALM Conference in St. John's\n[/vc_column_text][vc_column_text css=""]J
 une 5th to 7th\, 2025 marked our 2025 CALM Conference which took place in 
 St. John's\, Newfoundland and Labrador.[/vc_column_text][vc_empty_space][/
 vc_column][/vc_row][vc_row][vc_column][vc_column_text css=""]\nConference 
 Details\nAdvanced Communicators Day: Thursday\, June 5th\, 2025\nConferenc
 e Dates: Friday\, June 6th to Saturday\, June 7th\, 2025\nLocation: St. Jo
 hn’s\, Newfoundland and Labrador\nVenue: Delta Hotels St. John’s Confe
 rence Centre[/vc_column_text][vc_empty_space][/vc_column][/vc_row][vc_row]
 [vc_column][vc_column_text css=""]\nProgram and Workshops\nDownload our 20
 25 conference program to learn more about the speakers and activities that
  made our conference in St. John's our largest yet![/vc_column_text][vc_em
 pty_space][/vc_column][/vc_row][vc_row][vc_column][vc_column_text css=""]\
 nPhoto Gallery\n[/vc_column_text][/vc_column][/vc_row][vc_row][vc_column][
 vc_media_grid gap="15" css="" grid_id="vc_gid:1772907345286-2d193758-2fe5-
 6" include="4690\,4689\,4688\,4687\,4686\,4685\,4684\,4683\,4682\,4681\,46
 80\,4679\,4678\,4691\,4692\,4693\,4694\,4695\,4696\,4697\,4698"][vc_empty_
 space height="40px"][/vc_column][/vc_row]
ATTACH;FMTTYPE=image/jpeg:https://i0.wp.com/uniontraining.ca/wp-content/up
 loads/2024/09/calm-conference-2025.jpg?fit=1024%2C700&ssl=1
END:VEVENT
BEGIN:VTIMEZONE
TZID:America/Toronto
X-LIC-LOCATION:America/Toronto
BEGIN:DAYLIGHT
DTSTART:20250309T030000
TZOFFSETFROM:-0500
TZOFFSETTO:-0400
TZNAME:EDT
END:DAYLIGHT
END:VTIMEZONE
END:VCALENDAR