BEGIN:VCALENDAR
VERSION:2.0
PRODID:-//wp-events-plugin.com//7.2.3.1//EN
BEGIN:VEVENT
UID:20@uniontraining.ca
DTSTART;TZID=America/Toronto;VALUE=DATE:20260605
DTEND;TZID=America/Toronto;VALUE=DATE:20260607
DTSTAMP:20260210T214315Z
URL:https://uniontraining.ca/events/2026-calm-conference/
SUMMARY:2026 CALM Conference
DESCRIPTION:[vc_row][vc_column][vc_empty_space][vc_column_text css=""]\nJoi
 n us in Regina for our annual conference!\n[/vc_column_text][vc_column_tex
 t css=""]Mark June 5th to 6th\, 2026 on your calendar! This year's CALM Co
 nference will be taking place in Regina\, Saskatchewan.[/vc_column_text][v
 c_empty_space][/vc_column][/vc_row][vc_row][vc_column][vc_column_text css=
 ""]\nConference Details\nAdvanced Communicators Day: Thursday\, June 4th\,
  2025\nConference Dates: Friday\, June 5th to Saturday\, June 6th\, 2025\n
 Location: Regina\, Saskatchewan\nVenue: The Hotel Saskatchewan\n\nFor more
  information about this year's annual conference including registration\, 
 visit our main conference page.[/vc_column_text][/vc_column][/vc_row][vc_r
 ow][vc_column][vc_empty_space][/vc_column][/vc_row]
ATTACH;FMTTYPE=image/jpeg:https://i0.wp.com/uniontraining.ca/wp-content/up
 loads/2025/08/event-2026-conference.jpg?fit=1024%2C700&ssl=1
END:VEVENT
BEGIN:VTIMEZONE
TZID:America/Toronto
X-LIC-LOCATION:America/Toronto
BEGIN:DAYLIGHT
DTSTART:20260308T030000
TZOFFSETFROM:-0500
TZOFFSETTO:-0400
TZNAME:EDT
END:DAYLIGHT
END:VTIMEZONE
END:VCALENDAR