BEGIN:VCALENDAR
VERSION:2.0
PRODID:-//wp-events-plugin.com//7.2.3.1//EN
BEGIN:VEVENT
UID:24@uniontraining.ca
DTSTART;TZID=America/Toronto;VALUE=DATE:20260604
DTEND;TZID=America/Toronto;VALUE=DATE:20260605
DTSTAMP:20260210T214813Z
URL:https://uniontraining.ca/events/advanced-communicators-day/
SUMMARY:2026 ACD
DESCRIPTION:[vc_row][vc_column][vc_empty_space][vc_column_text css=""]\nAdv
 anced Communicators Day\n[/vc_column_text][vc_column_text css=""]While we 
 are still ironing out the day's program\, the 2026 Advanced Communicators 
 Day will cover a pretty hot topic - AI.[/vc_column_text][vc_empty_space][/
 vc_column][/vc_row][vc_row][vc_column][vc_column_text css=""]\nFull Confer
 ence Dates\n[/vc_column_text][vc_column_text css=""]Advanced Communicators
  Day: Thursday\, June 4th\, 2025\nConference Dates: Friday\, June 5th to S
 aturday\, June 6th\, 2025\nLocation: Regina\, Saskatchewan\nVenue: The Hot
 el Saskatchewan\n\nAs more info becomes available\, we will share it here.
  You can also learn more about this year's conference by visiting our main
  Annual Conference page.[/vc_column_text][/vc_column][/vc_row][vc_row][vc_
 column][vc_empty_space][/vc_column][/vc_row]
ATTACH;FMTTYPE=image/jpeg:https://i0.wp.com/uniontraining.ca/wp-content/up
 loads/2026/02/acd-event.jpg?fit=1024%2C700&ssl=1
END:VEVENT
BEGIN:VTIMEZONE
TZID:America/Toronto
X-LIC-LOCATION:America/Toronto
BEGIN:DAYLIGHT
DTSTART:20260308T030000
TZOFFSETFROM:-0500
TZOFFSETTO:-0400
TZNAME:EDT
END:DAYLIGHT
END:VTIMEZONE
END:VCALENDAR