BEGIN:VCALENDAR
VERSION:2.0
PRODID:-//wp-events-plugin.com//7.2.3.1//EN
BEGIN:VEVENT
UID:25@uniontraining.ca
DTSTART;TZID=America/Toronto:20260507T110000
DTEND;TZID=America/Toronto:20260507T123000
DTSTAMP:20260423T145256Z
URL:https://uniontraining.ca/events/communications-strategy/
SUMMARY:How to Create a Comms Strategy
DESCRIPTION:[vc_row][vc_column][vc_empty_space height="50px"][/vc_column][/
 vc_row][vc_row gap="20"][vc_column][vc_row_inner][vc_column_inner width="1
 /2"][vc_column_text css=""]\nWebinar: How to create a communications strat
 egy\n[/vc_column_text][vc_column_text css=""]Do you want your communicatio
 ns to be better aligned with union goals\,\nhave more consistent messaging
  across platforms\, and be targeted to the\nright audience at the right ti
 me?\n\nA communications strategy can help you do that (and more!) while\ns
 howcasing how communications is a vital\, strategic part of the union.\n\n
 Join Ellen Paulley\, MAPC\, for a presentation on how to think\nstrategica
 lly as a communicator\, develop a communications strategy and\nwhat to inc
 lude\, and challenges you may face developing one (and how to\novercome th
 em\, too!).[/vc_column_text][vc_single_image image="4795" img_size="full" 
 style="vc_box_rounded" css=".vc_custom_1776950951108{padding-right: 40px !
 important\;}"][/vc_column_inner][vc_column_inner width="1/2"][vc_column_te
 xt css=""]\nRegister today and join us on Thursday\, May 7th\n[/vc_column_
 text][wpforms id="4797" title="false" description="false"][/vc_column_inne
 r][/vc_row_inner][vc_empty_space height="20px"][/vc_column][/vc_row][vc_ro
 w][vc_column][vc_empty_space height="50px"][/vc_column][/vc_row]
ATTACH;FMTTYPE=image/jpeg:https://i0.wp.com/uniontraining.ca/wp-content/up
 loads/2026/04/webinar-session.webp?fit=1024%2C700&ssl=1
END:VEVENT
BEGIN:VTIMEZONE
TZID:America/Toronto
X-LIC-LOCATION:America/Toronto
BEGIN:DAYLIGHT
DTSTART:20260308T030000
TZOFFSETFROM:-0500
TZOFFSETTO:-0400
TZNAME:EDT
END:DAYLIGHT
END:VTIMEZONE
END:VCALENDAR