BEGIN:VCALENDAR
VERSION:2.0
PRODID:-//wp-events-plugin.com//7.2.3.1//EN
BEGIN:VEVENT
UID:10@uniontraining.ca
DTSTART;TZID=America/Toronto:20240118T193000
DTEND;TZID=America/Toronto:20240118T220000
DTSTAMP:20240104T143619Z
URL:https://uniontraining.ca/events/hamilton-social-meet-up/
SUMMARY:Hamilton social meet up
DESCRIPTION:[vc_row][vc_column][wgl_double_headings title_color="#232323" s
 ubtitle_color="#fd226a" bgtitle_color="#f3f3f3" title="Join us in Hamilton
 " subtitle="January 18\, 2024"][/vc_column][/vc_row][vc_row][vc_column][vc
 _single_image image="3540" img_size="large"][/vc_column][/vc_row][vc_row][
 vc_column][vc_column_text]Join us immediately after Labour Council on Jan 
 18 (7:30 PM) for some social networking with CALM and labour activists fro
 m across the region. RSVP here for updates and location information[/vc_co
 lumn_text][wgl_spacing spacer_size="30px"][/vc_column][/vc_row]
ATTACH;FMTTYPE=image/jpeg:https://i0.wp.com/uniontraining.ca/wp-content/up
 loads/2024/01/hamilton-social.png?fit=940%2C788&ssl=1
END:VEVENT
BEGIN:VTIMEZONE
TZID:America/Toronto
X-LIC-LOCATION:America/Toronto
BEGIN:STANDARD
DTSTART:20231105T010000
TZOFFSETFROM:-0400
TZOFFSETTO:-0500
TZNAME:EST
END:STANDARD
END:VTIMEZONE
END:VCALENDAR