BEGIN:VCALENDAR
VERSION:2.0
PRODID:-//wp-events-plugin.com//7.2.3.1//EN
BEGIN:VEVENT
UID:22@uniontraining.ca
DTSTART;TZID=America/Toronto:20251105T090000
DTEND;TZID=America/Toronto:20251105T160000
DTSTAMP:20260414T185145Z
URL:https://uniontraining.ca/events/mississauga-mini-conference/
SUMMARY:Mississauga Mini-Conference
DESCRIPTION:[vc_row][vc_column][vc_empty_space height="50px"][/vc_column][/
 vc_row][vc_row][vc_column][vc_column_text css=""]\nMississauga Mini-Confer
 ence\n[/vc_column_text][vc_column_text css=""]Wednesday\, November 5th\, 2
 025\n9:00 AM - 4:00 PM \n\nOPSEU Coopers Membership Centre\n5757 Coopers A
 ve\, Mississauga\, ON L4Z 2G4[/vc_column_text][vc_empty_space height="20px
 "][/vc_column][/vc_row][vc_row][vc_column][vc_media_grid gap="15" css="" g
 rid_id="vc_gid:1765423832407-2f0deb3d-101c-10" include="4526\,4529\,4535\,
 4537\,4528\,4525\,4527\,4530\,4536"][vc_empty_space height="62px"][/vc_col
 umn][/vc_row][vc_row][vc_column][vc_column_text css=""]\nWorkshops &amp\; 
 Presenters\n[/vc_column_text][/vc_column][/vc_row][vc_row gap="20" equal_h
 eight="yes" content_placement="middle"][vc_column width="1/5"][vc_single_i
 mage image="4507" img_size="full" alignment="center" style="vc_box_border_
 circle_2" css=""][/vc_column][vc_column width="4/5"][vc_column_text css=""
 ]\nHow to Hold the Line - and the Narrative: Lessons in Strike Communicati
 ons from OPSEU Local 351 with Lorinda Seward\nWhen Ontario’s college sup
 port staff went on strike\, OPSEU Local 351 needed to mobilize members\, c
 ontrol the message\, and win community support - fast. With limited resour
 ces but a clear plan\, the Local built a communications strategy that info
 rmed\, inspired\, and held the line - on the ground and online. This works
 hop will walk through OPSEU Local 351’s strike communications strategy f
 rom the inside: how roles were structured\, messages coordinated\, media m
 anaged\, and solidarity built day by day. I'll share templates\, lessons l
 earned\, and the tools that helped our Local turn chaos into solidarity. P
 articipants will leave with a replicable model for their own locals.[/vc_c
 olumn_text][/vc_column][/vc_row][vc_row gap="20" equal_height="yes" conten
 t_placement="middle"][vc_column width="1/5"][vc_single_image image="4508" 
 img_size="full" alignment="center" style="vc_box_border_circle_2" css=""][
 /vc_column][vc_column width="4/5"][vc_column_text css=""]\nStorytelling in
  Organizing - The Path to Building Solidarity with Brian Chang\nMarshall G
 anz pioneered the idea of a public narrative - using stories to drive chan
 ge. As a core part of organizing\, and organizing well\, public narrative 
 isn't just about you\, it's about developing you as a leader and inspiring
  others to come along. We're all interesting\, diverse\, and valued people
  who are so much more than just the jobs we do or the offices we hold in t
 he Union. We have an opportunity to use stories in driving all the work we
  do\, from engaging email copy\, compelling bargaining presentations\, one
 -on-one conversations with members\, and when this is paired with structur
 ed organizing conversations\, it's how we build and escalate all the way f
 rom signing a union card to wildcat walkouts.\n\nLearn about this structur
 ed approach to storytelling that situates stories in a context of self\, u
 s\, and now. We will help you bring a personal story forward\, with the in
 tention of sharing and asking something specific of the listeners.\n\nWe'l
 l think about different types of audiences and thinking about how we appro
 ach them. We'll think about the ways we use stories to have structured org
 anizing conversations. We'll spend time on the process of emotional intell
 igence\, how we use emotions and feelings in self-awareness\, self-managem
 ent\, social awareness\, and social management. And we'll share with one a
 nother\, even when it feels uncomfortable.\n\nTogether\, we'll give you so
 me key tools on getting started in putting your own public narrative toget
 her as we connect to our communities in authentic and meaningful ways.[/vc
 _column_text][/vc_column][/vc_row][vc_row gap="20" equal_height="yes" cont
 ent_placement="middle"][vc_column width="1/5"][vc_single_image image="4513
 " img_size="full" alignment="center" style="vc_box_border_circle_2" css=""
 ][/vc_column][vc_column width="4/5"][vc_column_text css=""]\nTurning Laugh
 ter Into Action with Teagan Salter and Nathan Hare\nSerious issues… funn
 y campaigns? Humour has proven time and time again to resonate with the pu
 blic and make them see what we’re facing in a new way. Teagan Salter and
  Nathan Hare will show you how to use humour and bold messaging to break t
 hrough the noise in your campaigns.[/vc_column_text][/vc_column][/vc_row][
 vc_row gap="20" equal_height="yes" content_placement="middle"][vc_column w
 idth="1/5"][vc_single_image image="3936" img_size="full" alignment="center
 " style="vc_box_border_circle_2" css=""][/vc_column][vc_column width="4/5"
 ][vc_column_text css=""]\nMedia Relations with Nora Loreto\nAmp up your me
 dia relations work! This workshop by Nora Loreto will show you ways to get
  your message into the faces of your members and the public at large. Lear
 n how to craft a compelling narrative and speak in such a way that your me
 ssage rises above the fray![/vc_column_text][/vc_column][/vc_row][vc_row g
 ap="20" equal_height="yes" content_placement="middle"][vc_column width="1/
 5"][vc_single_image image="3963" img_size="full" alignment="center" style=
 "vc_box_border_circle_2" css=""][/vc_column][vc_column width="4/5"][vc_col
 umn_text css=""]\nFilm\, Edit\, Mobilize: Smartphone Videography for Chang
 e with Anna Jover\nGot a smartphone? Then you’ve got all you need to mak
 e some noise! In this 90min crash course\, we’ll break down how to shoot
  quick\, attention-grabbing videos (aka reels) that get members engaged an
 d rally support. From filming tips to storytelling tricks\, you’ll walk 
 away ready to create video content that pops on social media—no fancy eq
 uipment or editing skills needed. Just bring your phone and let’s shake 
 things up![/vc_column_text][/vc_column][/vc_row][vc_row gap="20" equal_hei
 ght="yes" content_placement="middle"][vc_column width="1/5"][vc_single_ima
 ge image="3937" img_size="full" alignment="center" style="vc_box_border_ci
 rcle_2" css=""][/vc_column][vc_column width="4/5"][vc_column_text css=""]\
 nCanva: Tips\, Tricks &amp\; Templates with Teuila Mau\nUnions have rapidl
 y moved to using Canva in their communications work\, but are you using it
  its full capacity? In this workshop\, delegates will learn all about Canv
 a and\, importantly\, how to get the most out of your design work.[/vc_col
 umn_text][/vc_column][/vc_row][vc_row disable_element="yes"][vc_column][wg
 l_timetabs_wrapper][wgl_timetabs_container tab_title="Event Schedule" tab_
 sub_title="Mini-Conference" tab_id="1727360132366-1eb309ac-bd1d"][wgl_time
 tabs_item time="9:00am" title="Registration &amp\; Opening Remarks" button
 _text="" button_text_color="#232323" button_text_color_hover="#ffffff" but
 ton_bg_color="#ffffff" button_bg_color_hover="#7c529c" button_border_color
 ="#7c529c" button_border_color_hover="#7c529c" description="Join us as we 
 settle in and kick off our full day of learning!"][wgl_timetabs_item time=
 "9:30am" title="Workshop Block 1" button_text="" button_text_color="#23232
 3" button_text_color_hover="#ffffff" button_bg_color="#ffffff" button_bg_c
 olor_hover="#7c529c" button_border_color="#7c529c" button_border_color_hov
 er="#7c529c" description="• How to Hold the Line – and the Narrative: 
 Lessons in Strike Communications from OPSEU Local 351 with Lorinda Seward\
 n• Film\, Edit\, Mobilize: Smartphone Videography for Change with Anna J
 over"][wgl_timetabs_item time="10:45am" title="Break" button_text="" butto
 n_text_color="#232323" button_text_color_hover="#ffffff" button_bg_color="
 #ffffff" button_bg_color_hover="#7c529c" button_border_color="#7c529c" but
 ton_border_color_hover="#7c529c"][wgl_timetabs_item time="11:00am" title="
 Workshop Block 2" button_text="" button_text_color="#232323" button_text_c
 olor_hover="#ffffff" button_bg_color="#ffffff" button_bg_color_hover="#7c5
 29c" button_border_color="#7c529c" button_border_color_hover="#7c529c" des
 cription="• Storytelling in Organizing – The Path to Building Solidari
 ty with Brian Chang\n• Turning Laughter Into Action with Teagan Salter a
 nd Nathan Hare"][wgl_timetabs_item time="12:15pm" title="Lunch" button_tex
 t="" button_text_color="#232323" button_text_color_hover="#ffffff" button_
 bg_color="#ffffff" button_bg_color_hover="#7c529c" button_border_color="#7
 c529c" button_border_color_hover="#7c529c" description="Lunch will be prov
 ided for all attendees."][wgl_timetabs_item time="1:00pm" title="Workshop 
 Block 3" button_text="" button_text_color="#232323" button_text_color_hove
 r="#ffffff" button_bg_color="#ffffff" button_bg_color_hover="#7c529c" butt
 on_border_color="#7c529c" button_border_color_hover="#7c529c" description=
 "• Media Relations with Nora Loreto\n• Canva: Tips\, Tricks &amp\; Tem
 plates with Teuila Mau"][wgl_timetabs_item time="2:15pm" title="Break" but
 ton_text="" button_text_color="#232323" button_text_color_hover="#ffffff" 
 button_bg_color="#ffffff" button_bg_color_hover="#7c529c" button_border_co
 lor="#7c529c" button_border_color_hover="#7c529c"][wgl_timetabs_item time=
 "2:30pm" title="Workshop Block 4" button_text="" button_text_color="#23232
 3" button_text_color_hover="#ffffff" button_bg_color="#ffffff" button_bg_c
 olor_hover="#7c529c" button_border_color="#7c529c" button_border_color_hov
 er="#7c529c" description="• Mastering Social Media with Samanta Krishnap
 illai\n• How to Tell Compelling Labour Stories for General Audiences wit
 h Arshy Mann"][wgl_timetabs_item time="3:45pm" title="Closing Remarks" but
 ton_text="" button_text_color="#232323" button_text_color_hover="#ffffff" 
 button_bg_color="#ffffff" button_bg_color_hover="#7c529c" button_border_co
 lor="#7c529c" button_border_color_hover="#7c529c"][/wgl_timetabs_container
 ][/wgl_timetabs_wrapper][/vc_column][/vc_row]
ATTACH;FMTTYPE=image/jpeg:https://i0.wp.com/uniontraining.ca/wp-content/up
 loads/2025/09/event-mississauga.jpg?fit=1024%2C700&ssl=1
LOCATION:OPSEU Coopers Membership Centre\, 5757 Coopers Ave\, Mississauga\,
  ON\, L4Z 2G4\, Canada
X-APPLE-STRUCTURED-LOCATION;VALUE=URI;X-ADDRESS=5757 Coopers Ave\, Mississa
 uga\, ON\, L4Z 2G4\, Canada;X-APPLE-RADIUS=100;X-TITLE=OPSEU Coopers Membe
 rship Centre:geo:0,0
END:VEVENT
BEGIN:VTIMEZONE
TZID:America/Toronto
X-LIC-LOCATION:America/Toronto
BEGIN:STANDARD
DTSTART:20251102T010000
TZOFFSETFROM:-0400
TZOFFSETTO:-0500
TZNAME:EST
END:STANDARD
END:VTIMEZONE
END:VCALENDAR