BEGIN:VCALENDAR
VERSION:2.0
PRODID:-//wp-events-plugin.com//7.2.3.1//EN
BEGIN:VEVENT
UID:23@uniontraining.ca
DTSTART;TZID=America/Toronto:20251106T190000
DTEND;TZID=America/Toronto:20251106T210000
DTSTAMP:20251107T180354Z
URL:https://uniontraining.ca/events/ottawa-social/
SUMMARY:Ottawa Social
DESCRIPTION:[vc_row][vc_column][vc_empty_space height="50px"][/vc_column][/
 vc_row][vc_row][vc_column][vc_column_text css=""]\nOttawa Social\n[/vc_col
 umn_text][vc_column_text css=""]Thank you to everyone who came out for an 
 evening of mingling\, food and fun at the Manor Lounge in Ottawa![/vc_colu
 mn_text][vc_empty_space height="20px"][/vc_column][/vc_row][vc_row][vc_col
 umn][vc_media_grid gap="15" css="" grid_id="vc_gid:1762538606775-2ecb1f60-
 a310-8" include="4532\,4534\,4533"][vc_empty_space height="80px"][vc_singl
 e_image image="4521" img_size="full" css=""][/vc_column][/vc_row]
ATTACH;FMTTYPE=image/jpeg:https://i0.wp.com/uniontraining.ca/wp-content/up
 loads/2025/11/ottawa-social-nov.jpg?fit=1024%2C700&ssl=1
LOCATION:Manor Lounge\, 292 Elgin St\, Ottawa\, K2P 1M3\, Canada
X-APPLE-STRUCTURED-LOCATION;VALUE=URI;X-ADDRESS=292 Elgin St\, Ottawa\, K2P
  1M3\, Canada;X-APPLE-RADIUS=100;X-TITLE=Manor Lounge:geo:0,0
END:VEVENT
BEGIN:VTIMEZONE
TZID:America/Toronto
X-LIC-LOCATION:America/Toronto
BEGIN:STANDARD
DTSTART:20251102T010000
TZOFFSETFROM:-0400
TZOFFSETTO:-0500
TZNAME:EST
END:STANDARD
END:VTIMEZONE
END:VCALENDAR