BEGIN:VCALENDAR
VERSION:2.0
PRODID:-//wp-events-plugin.com//7.2.3.1//EN
BEGIN:VEVENT
UID:9@uniontraining.ca
DTSTART;TZID=America/Toronto:20231114T133000
DTEND;TZID=America/Toronto:20231114T143000
DTSTAMP:20231106T113027Z
URL:https://uniontraining.ca/events/social-media-meet-up/
SUMMARY:Social media meet up
DESCRIPTION:[vc_row][vc_column][vc_empty_space][/vc_column][/vc_row][vc_row
 ][vc_column][vc_column_text]\nSocial media meet up\n[/vc_column_text][vc_c
 olumn_text]Have you ever wanted to bounce ideas off other workers who do s
 imilar work as you do? CALM is hosting an online\, one-hour meet up: of so
 cial media managers. Please forward this invitation to anyone in your offi
 ce who manages your social media.[/vc_column_text][/vc_column][/vc_row][vc
 _row][vc_column][vc_empty_space][/vc_column][/vc_row][vc_row][vc_column][v
 c_empty_space][/vc_column][/vc_row][vc_row][vc_column][vc_column_text]\nSc
 hedule\n[/vc_column_text][wgl_time_line_vertical values="%5B%7B%22title%22
 %3A%221%3A30%22%2C%22descr%22%3A%22Online%20zoom%20meeting%20(one%20hour)%
 22%2C%22color%22%3A%22%23fd226a%22%7D%5D"][/vc_column][/vc_row][vc_row][vc
 _column][vc_empty_space][vc_column_text]\nFacilitated by\n[/vc_column_text
 ][/vc_column][/vc_row][vc_row gap="20"][vc_column width="1/4"][vc_single_i
 mage image="2072" img_size="full" alignment="center" style="vc_box_circle_
 2"][vc_column_text]\nNora Loreto\n[/vc_column_text][/vc_column][vc_column 
 width="1/4"][vc_single_image image="2928" img_size="full" alignment="cente
 r" style="vc_box_circle_2"][vc_column_text]\nVirginia Ridley\n[/vc_column_
 text][/vc_column][/vc_row][vc_row][vc_column][vc_empty_space][/vc_column][
 /vc_row][vc_row][vc_column][vc_column_text]\nRegistration Form\n[/vc_colum
 n_text][vc_column_text]RSVP here: https://actionnetwork.org/events/social-
 media-meet-up\n\n[/vc_column_text][/vc_column][/vc_row][vc_row][vc_column]
 [vc_empty_space][/vc_column][/vc_row]
ATTACH;FMTTYPE=image/jpeg:https://i0.wp.com/uniontraining.ca/wp-content/up
 loads/2023/10/Untitled-design-3.png?fit=1080%2C1080&ssl=1
END:VEVENT
BEGIN:VTIMEZONE
TZID:America/Toronto
X-LIC-LOCATION:America/Toronto
BEGIN:STANDARD
DTSTART:20231105T010000
TZOFFSETFROM:-0400
TZOFFSETTO:-0500
TZNAME:EST
END:STANDARD
END:VTIMEZONE
END:VCALENDAR