BEGIN:VCALENDAR
VERSION:2.0
PRODID:-//wp-events-plugin.com//7.2.3.1//EN
BEGIN:VEVENT
UID:1@uniontraining.ca
DTSTART;TZID=America/Toronto:20230928T090000
DTEND;TZID=America/Toronto:20230928T160000
DTSTAMP:20240717T042226Z
URL:https://uniontraining.ca/events/st-catharines-mini-conference/
SUMMARY:St. Catharines Mini Conference
DESCRIPTION:[vc_row][vc_column][vc_column_text]\nJoin us in St. Catharines\
 nOur next mini-conference is scheduled for September 28\, 2023 in St. Cath
 arines.\n\n&nbsp\;\nWorkshops\nOnline meetings with Carl Mavromichalis\nW
 ith the COVID 19 pandemic\, our lives changed quickly and drastically.  O
 nce novel\, online meetings became common place\, and continue today.  Th
 is workshop will discuss the tools and skills needed to host online meetin
 gs.\nMedia Relations 101 with Hugh Pouliot\nHow to connect and work with 
 reporters and journalists to tell your story.\nOrganizing workers who work
  from home with Nora Loreto\nFake news! with Nora Loreto\nAccessible des
 ign with Bex Knight\nAccessibility in communications\nOnline tools with 
 Virginia Ridley\nThis workshop will explore and discuss frere and low cost
  online tools\, which ones are worth using\, and how to maximize these too
 ls to improve your communications.\nLet’s be friends! Coalition building
  for the long haul! with Kerry Duncan\nBoth within our union locals and ac
 ross our communities\, we are seeing a surge in people and organizations r
 eady to show up and work together\, but far too often\, it feels like re-i
 nventing the wheel. This workshop will look at internal and external commu
 nications strategies and tactics on how we build coalitions within our com
 munities\, and retain those resources and relationships moving forward. Ev
 erything from multi-generational approaches to feedback processes and plat
 forms\, various approaches to shared outreach to the ways we transition ou
 r relationships and resources to the next generation!\n\nCheck back often 
 as we add to the workshop list\n\n&nbsp\;\nRegistration Form\nRegistration
  is now closed.\n\n[/vc_column_text][/vc_column][/vc_row]
ATTACH;FMTTYPE=image/jpeg:https://i0.wp.com/uniontraining.ca/wp-content/up
 loads/2023/06/St.-Catharines-mini-con.png?fit=940%2C788&ssl=1
LOCATION:https://www.google.com/maps/place/Brock+University/@43.1181324,-79
 .247686,15z/data=!4m2!3m1!1s0x0:0xdb7b89e6cdaba7d2?sa=X&ved=2ahUKEwix2sLw_
 raBAxXEEFkFHenWCroQ_BJ6BAhZEAA&ved=2ahUKEwix2sLw_raBAxXEEFkFHenWCroQ_BJ6BA
 hqEAg
END:VEVENT
BEGIN:VTIMEZONE
TZID:America/Toronto
X-LIC-LOCATION:America/Toronto
BEGIN:DAYLIGHT
DTSTART:20230312T030000
TZOFFSETFROM:-0500
TZOFFSETTO:-0400
TZNAME:EDT
END:DAYLIGHT
END:VTIMEZONE
END:VCALENDAR