BEGIN:VCALENDAR
VERSION:2.0
PRODID:-//wp-events-plugin.com//7.2.3.1//EN
BEGIN:VEVENT
UID:14@uniontraining.ca
DTSTART;TZID=America/Vancouver:20241203T090000
DTEND;TZID=America/Vancouver:20241203T160000
DTSTAMP:20251211T033007Z
URL:https://uniontraining.ca/events/victoria-mini-conference/
SUMMARY:Victoria Mini-Conference
DESCRIPTION:[vc_row][vc_column][vc_empty_space height="50px"][/vc_column][/
 vc_row][vc_row][vc_column width="2/3"][vc_column_text css=""]\nVictoria Mi
 ni-Conference\n[/vc_column_text][vc_column_text css=""]This day-long mini-
 conference was held at theDock Centre for Social Impact co-working space i
 n Victoria\, BC. \n\nFrom writing headlines &amp\; newsletters to explorin
 g media relations to learning about direct action\, our mini-conference wa
 s filled with a variety of workshops.\n\nFor workshop slide decks\, be sur
 e to check out the CALM Resources page.\n\nAnd\, be sure to join us at our
  next in-person event by checking our Upcoming Events page often.[/vc_colu
 mn_text][vc_empty_space][/vc_column][vc_column width="1/3"][vc_raw_html cs
 s=""]JTNDYmxvY2txdW90ZSUyMGNsYXNzJTNEJTIyaW5zdGFncmFtLW1lZGlhJTIyJTIwZGF0Y
 S1pbnN0Z3JtLXBlcm1hbGluayUzRCUyMmh0dHBzJTNBJTJGJTJGd3d3Lmluc3RhZ3JhbS5jb20
 lMkZyZWVsJTJGRERiTjlRN3hJUnolMkYlM0Z1dG1fc291cmNlJTNEaWdfZW1iZWQlMjZhbXAlM
 0J1dG1fY2FtcGFpZ24lM0Rsb2FkaW5nJTIyJTIwZGF0YS1pbnN0Z3JtLXZlcnNpb24lM0QlMjI
 xNCUyMiUyMHN0eWxlJTNEJTIyJTIwYmFja2dyb3VuZCUzQSUyM0ZGRiUzQiUyMGJvcmRlciUzQ
 TAlM0IlMjBib3JkZXItcmFkaXVzJTNBM3B4JTNCJTIwYm94LXNoYWRvdyUzQTAlMjAwJTIwMXB
 4JTIwMCUyMHJnYmElMjgwJTJDMCUyQzAlMkMwLjUlMjklMkMwJTIwMXB4JTIwMTBweCUyMDAlM
 jByZ2JhJTI4MCUyQzAlMkMwJTJDMC4xNSUyOSUzQiUyMG1hcmdpbiUzQSUyMDFweCUzQiUyMG1
 heC13aWR0aCUzQTU0MHB4JTNCJTIwbWluLXdpZHRoJTNBMzI2cHglM0IlMjBwYWRkaW5nJTNBM
 CUzQiUyMHdpZHRoJTNBOTkuMzc1JTI1JTNCJTIwd2lkdGglM0Etd2Via2l0LWNhbGMlMjgxMDA
 lMjUlMjAtJTIwMnB4JTI5JTNCJTIwd2lkdGglM0FjYWxjJTI4MTAwJTI1JTIwLSUyMDJweCUyO
 SUzQiUyMiUzRSUzQ2RpdiUyMHN0eWxlJTNEJTIycGFkZGluZyUzQTE2cHglM0IlMjIlM0UlMjA
 lM0NhJTIwaHJlZiUzRCUyMmh0dHBzJTNBJTJGJTJGd3d3Lmluc3RhZ3JhbS5jb20lMkZyZWVsJ
 TJGRERiTjlRN3hJUnolMkYlM0Z1dG1fc291cmNlJTNEaWdfZW1iZWQlMjZhbXAlM0J1dG1fY2F
 tcGFpZ24lM0Rsb2FkaW5nJTIyJTIwc3R5bGUlM0QlMjIlMjBiYWNrZ3JvdW5kJTNBJTIzRkZGR
 kZGJTNCJTIwbGluZS1oZWlnaHQlM0EwJTNCJTIwcGFkZGluZyUzQTAlMjAwJTNCJTIwdGV4dC1
 hbGlnbiUzQWNlbnRlciUzQiUyMHRleHQtZGVjb3JhdGlvbiUzQW5vbmUlM0IlMjB3aWR0aCUzQ
 TEwMCUyNSUzQiUyMiUyMHRhcmdldCUzRCUyMl9ibGFuayUyMiUzRSUyMCUzQ2RpdiUyMHN0eWx
 lJTNEJTIyJTIwZGlzcGxheSUzQSUyMGZsZXglM0IlMjBmbGV4LWRpcmVjdGlvbiUzQSUyMHJvd
 yUzQiUyMGFsaWduLWl0ZW1zJTNBJTIwY2VudGVyJTNCJTIyJTNFJTIwJTNDZGl2JTIwc3R5bGU
 lM0QlMjJiYWNrZ3JvdW5kLWNvbG9yJTNBJTIwJTIzRjRGNEY0JTNCJTIwYm9yZGVyLXJhZGl1c
 yUzQSUyMDUwJTI1JTNCJTIwZmxleC1ncm93JTNBJTIwMCUzQiUyMGhlaWdodCUzQSUyMDQwcHg
 lM0IlMjBtYXJnaW4tcmlnaHQlM0ElMjAxNHB4JTNCJTIwd2lkdGglM0ElMjA0MHB4JTNCJTIyJ
 TNFJTNDJTJGZGl2JTNFJTIwJTNDZGl2JTIwc3R5bGUlM0QlMjJkaXNwbGF5JTNBJTIwZmxleCU
 zQiUyMGZsZXgtZGlyZWN0aW9uJTNBJTIwY29sdW1uJTNCJTIwZmxleC1ncm93JTNBJTIwMSUzQ
 iUyMGp1c3RpZnktY29udGVudCUzQSUyMGNlbnRlciUzQiUyMiUzRSUyMCUzQ2RpdiUyMHN0eWx
 lJTNEJTIyJTIwYmFja2dyb3VuZC1jb2xvciUzQSUyMCUyM0Y0RjRGNCUzQiUyMGJvcmRlci1yY
 WRpdXMlM0ElMjA0cHglM0IlMjBmbGV4LWdyb3clM0ElMjAwJTNCJTIwaGVpZ2h0JTNBJTIwMTR
 weCUzQiUyMG1hcmdpbi1ib3R0b20lM0ElMjA2cHglM0IlMjB3aWR0aCUzQSUyMDEwMHB4JTNCJ
 TIyJTNFJTNDJTJGZGl2JTNFJTIwJTNDZGl2JTIwc3R5bGUlM0QlMjIlMjBiYWNrZ3JvdW5kLWN
 vbG9yJTNBJTIwJTIzRjRGNEY0JTNCJTIwYm9yZGVyLXJhZGl1cyUzQSUyMDRweCUzQiUyMGZsZ
 XgtZ3JvdyUzQSUyMDAlM0IlMjBoZWlnaHQlM0ElMjAxNHB4JTNCJTIwd2lkdGglM0ElMjA2MHB
 4JTNCJTIyJTNFJTNDJTJGZGl2JTNFJTNDJTJGZGl2JTNFJTNDJTJGZGl2JTNFJTNDZGl2JTIwc
 3R5bGUlM0QlMjJwYWRkaW5nJTNBJTIwMTklMjUlMjAwJTNCJTIyJTNFJTNDJTJGZGl2JTNFJTI
 wJTNDZGl2JTIwc3R5bGUlM0QlMjJkaXNwbGF5JTNBYmxvY2slM0IlMjBoZWlnaHQlM0E1MHB4J
 TNCJTIwbWFyZ2luJTNBMCUyMGF1dG8lMjAxMnB4JTNCJTIwd2lkdGglM0E1MHB4JTNCJTIyJTN
 FJTNDc3ZnJTIwd2lkdGglM0QlMjI1MHB4JTIyJTIwaGVpZ2h0JTNEJTIyNTBweCUyMiUyMHZpZ
 XdCb3glM0QlMjIwJTIwMCUyMDYwJTIwNjAlMjIlMjB2ZXJzaW9uJTNEJTIyMS4xJTIyJTIweG1
 sbnMlM0QlMjJodHRwcyUzQSUyRiUyRnd3dy53My5vcmclMkYyMDAwJTJGc3ZnJTIyJTIweG1sb
 nMlM0F4bGluayUzRCUyMmh0dHBzJTNBJTJGJTJGd3d3LnczLm9yZyUyRjE5OTklMkZ4bGluayU
 yMiUzRSUzQ2clMjBzdHJva2UlM0QlMjJub25lJTIyJTIwc3Ryb2tlLXdpZHRoJTNEJTIyMSUyM
 iUyMGZpbGwlM0QlMjJub25lJTIyJTIwZmlsbC1ydWxlJTNEJTIyZXZlbm9kZCUyMiUzRSUzQ2c
 lMjB0cmFuc2Zvcm0lM0QlMjJ0cmFuc2xhdGUlMjgtNTExLjAwMDAwMCUyQyUyMC0yMC4wMDAwM
 DAlMjklMjIlMjBmaWxsJTNEJTIyJTIzMDAwMDAwJTIyJTNFJTNDZyUzRSUzQ3BhdGglMjBkJTN
 EJTIyTTU1Ni44NjklMkMzMC40MSUyMEM1NTQuODE0JTJDMzAuNDElMjA1NTMuMTQ4JTJDMzIuM
 Dc2JTIwNTUzLjE0OCUyQzM0LjEzMSUyMEM1NTMuMTQ4JTJDMzYuMTg2JTIwNTU0LjgxNCUyQzM
 3Ljg1MiUyMDU1Ni44NjklMkMzNy44NTIlMjBDNTU4LjkyNCUyQzM3Ljg1MiUyMDU2MC41OSUyQ
 zM2LjE4NiUyMDU2MC41OSUyQzM0LjEzMSUyMEM1NjAuNTklMkMzMi4wNzYlMjA1NTguOTI0JTJ
 DMzAuNDElMjA1NTYuODY5JTJDMzAuNDElMjBNNTQxJTJDNjAuNjU3JTIwQzUzNS4xMTQlMkM2M
 C42NTclMjA1MzAuMzQyJTJDNTUuODg3JTIwNTMwLjM0MiUyQzUwJTIwQzUzMC4zNDIlMkM0NC4
 xMTQlMjA1MzUuMTE0JTJDMzkuMzQyJTIwNTQxJTJDMzkuMzQyJTIwQzU0Ni44ODclMkMzOS4zN
 DIlMjA1NTEuNjU4JTJDNDQuMTE0JTIwNTUxLjY1OCUyQzUwJTIwQzU1MS42NTglMkM1NS44ODc
 lMjA1NDYuODg3JTJDNjAuNjU3JTIwNTQxJTJDNjAuNjU3JTIwTTU0MSUyQzMzLjg4NiUyMEM1M
 zIuMSUyQzMzLjg4NiUyMDUyNC44ODYlMkM0MS4xJTIwNTI0Ljg4NiUyQzUwJTIwQzUyNC44ODY
 lMkM1OC44OTklMjA1MzIuMSUyQzY2LjExMyUyMDU0MSUyQzY2LjExMyUyMEM1NDkuOSUyQzY2L
 jExMyUyMDU1Ny4xMTUlMkM1OC44OTklMjA1NTcuMTE1JTJDNTAlMjBDNTU3LjExNSUyQzQxLjE
 lMjA1NDkuOSUyQzMzLjg4NiUyMDU0MSUyQzMzLjg4NiUyME01NjUuMzc4JTJDNjIuMTAxJTIwQ
 zU2NS4yNDQlMkM2NS4wMjIlMjA1NjQuNzU2JTJDNjYuNjA2JTIwNTY0LjM0NiUyQzY3LjY2MyU
 yMEM1NjMuODAzJTJDNjkuMDYlMjA1NjMuMTU0JTJDNzAuMDU3JTIwNTYyLjEwNiUyQzcxLjEwN
 iUyMEM1NjEuMDU4JTJDNzIuMTU1JTIwNTYwLjA2JTJDNzIuODAzJTIwNTU4LjY2MiUyQzczLjM
 0NyUyMEM1NTcuNjA3JTJDNzMuNzU3JTIwNTU2LjAyMSUyQzc0LjI0NCUyMDU1My4xMDIlMkM3N
 C4zNzglMjBDNTQ5Ljk0NCUyQzc0LjUyMSUyMDU0OC45OTclMkM3NC41NTIlMjA1NDElMkM3NC4
 1NTIlMjBDNTMzLjAwMyUyQzc0LjU1MiUyMDUzMi4wNTYlMkM3NC41MjElMjA1MjguODk4JTJDN
 zQuMzc4JTIwQzUyNS45NzklMkM3NC4yNDQlMjA1MjQuMzkzJTJDNzMuNzU3JTIwNTIzLjMzOCU
 yQzczLjM0NyUyMEM1MjEuOTQlMkM3Mi44MDMlMjA1MjAuOTQyJTJDNzIuMTU1JTIwNTE5Ljg5N
 CUyQzcxLjEwNiUyMEM1MTguODQ2JTJDNzAuMDU3JTIwNTE4LjE5NyUyQzY5LjA2JTIwNTE3LjY
 1NCUyQzY3LjY2MyUyMEM1MTcuMjQ0JTJDNjYuNjA2JTIwNTE2Ljc1NSUyQzY1LjAyMiUyMDUxN
 i42MjMlMkM2Mi4xMDElMjBDNTE2LjQ3OSUyQzU4Ljk0MyUyMDUxNi40NDglMkM1Ny45OTYlMjA
 1MTYuNDQ4JTJDNTAlMjBDNTE2LjQ0OCUyQzQyLjAwMyUyMDUxNi40NzklMkM0MS4wNTYlMjA1M
 TYuNjIzJTJDMzcuODk5JTIwQzUxNi43NTUlMkMzNC45NzglMjA1MTcuMjQ0JTJDMzMuMzkxJTI
 wNTE3LjY1NCUyQzMyLjMzOCUyMEM1MTguMTk3JTJDMzAuOTM4JTIwNTE4Ljg0NiUyQzI5Ljk0M
 iUyMDUxOS44OTQlMkMyOC44OTQlMjBDNTIwLjk0MiUyQzI3Ljg0NiUyMDUyMS45NCUyQzI3LjE
 5NiUyMDUyMy4zMzglMkMyNi42NTQlMjBDNTI0LjM5MyUyQzI2LjI0NCUyMDUyNS45NzklMkMyN
 S43NTYlMjA1MjguODk4JTJDMjUuNjIzJTIwQzUzMi4wNTclMkMyNS40NzklMjA1MzMuMDA0JTJ
 DMjUuNDQ4JTIwNTQxJTJDMjUuNDQ4JTIwQzU0OC45OTclMkMyNS40NDglMjA1NDkuOTQzJTJDM
 jUuNDc5JTIwNTUzLjEwMiUyQzI1LjYyMyUyMEM1NTYuMDIxJTJDMjUuNzU2JTIwNTU3LjYwNyU
 yQzI2LjI0NCUyMDU1OC42NjIlMkMyNi42NTQlMjBDNTYwLjA2JTJDMjcuMTk2JTIwNTYxLjA1O
 CUyQzI3Ljg0NiUyMDU2Mi4xMDYlMkMyOC44OTQlMjBDNTYzLjE1NCUyQzI5Ljk0MiUyMDU2My4
 4MDMlMkMzMC45MzglMjA1NjQuMzQ2JTJDMzIuMzM4JTIwQzU2NC43NTYlMkMzMy4zOTElMjA1N
 jUuMjQ0JTJDMzQuOTc4JTIwNTY1LjM3OCUyQzM3Ljg5OSUyMEM1NjUuNTIyJTJDNDEuMDU2JTI
 wNTY1LjU1MiUyQzQyLjAwMyUyMDU2NS41NTIlMkM1MCUyMEM1NjUuNTUyJTJDNTcuOTk2JTIwN
 TY1LjUyMiUyQzU4Ljk0MyUyMDU2NS4zNzglMkM2Mi4xMDElMjBNNTcwLjgyJTJDMzcuNjMxJTI
 wQzU3MC42NzQlMkMzNC40MzglMjA1NzAuMTY3JTJDMzIuMjU4JTIwNTY5LjQyNSUyQzMwLjM0O
 SUyMEM1NjguNjU5JTJDMjguMzc3JTIwNTY3LjYzMyUyQzI2LjcwMiUyMDU2NS45NjUlMkMyNS4
 wMzUlMjBDNTY0LjI5NyUyQzIzLjM2OCUyMDU2Mi42MjMlMkMyMi4zNDIlMjA1NjAuNjUyJTJDM
 jEuNTc1JTIwQzU1OC43NDMlMkMyMC44MzQlMjA1NTYuNTYyJTJDMjAuMzI2JTIwNTUzLjM2OSU
 yQzIwLjE4JTIwQzU1MC4xNjklMkMyMC4wMzMlMjA1NDkuMTQ4JTJDMjAlMjA1NDElMkMyMCUyM
 EM1MzIuODUzJTJDMjAlMjA1MzEuODMxJTJDMjAuMDMzJTIwNTI4LjYzMSUyQzIwLjE4JTIwQzU
 yNS40MzglMkMyMC4zMjYlMjA1MjMuMjU3JTJDMjAuODM0JTIwNTIxLjM0OSUyQzIxLjU3NSUyM
 EM1MTkuMzc2JTJDMjIuMzQyJTIwNTE3LjcwMyUyQzIzLjM2OCUyMDUxNi4wMzUlMkMyNS4wMzU
 lMjBDNTE0LjM2OCUyQzI2LjcwMiUyMDUxMy4zNDIlMkMyOC4zNzclMjA1MTIuNTc0JTJDMzAuM
 zQ5JTIwQzUxMS44MzQlMkMzMi4yNTglMjA1MTEuMzI2JTJDMzQuNDM4JTIwNTExLjE4MSUyQzM
 3LjYzMSUyMEM1MTEuMDM1JTJDNDAuODMxJTIwNTExJTJDNDEuODUxJTIwNTExJTJDNTAlMjBDN
 TExJTJDNTguMTQ3JTIwNTExLjAzNSUyQzU5LjE3JTIwNTExLjE4MSUyQzYyLjM2OSUyMEM1MTE
 uMzI2JTJDNjUuNTYyJTIwNTExLjgzNCUyQzY3Ljc0MyUyMDUxMi41NzQlMkM2OS42NTElMjBDN
 TEzLjM0MiUyQzcxLjYyNSUyMDUxNC4zNjglMkM3My4yOTYlMjA1MTYuMDM1JTJDNzQuOTY1JTI
 wQzUxNy43MDMlMkM3Ni42MzQlMjA1MTkuMzc2JTJDNzcuNjU4JTIwNTIxLjM0OSUyQzc4LjQyN
 SUyMEM1MjMuMjU3JTJDNzkuMTY3JTIwNTI1LjQzOCUyQzc5LjY3MyUyMDUyOC42MzElMkM3OS4
 4MiUyMEM1MzEuODMxJTJDNzkuOTY1JTIwNTMyLjg1MyUyQzgwLjAwMSUyMDU0MSUyQzgwLjAwM
 SUyMEM1NDkuMTQ4JTJDODAuMDAxJTIwNTUwLjE2OSUyQzc5Ljk2NSUyMDU1My4zNjklMkM3OS4
 4MiUyMEM1NTYuNTYyJTJDNzkuNjczJTIwNTU4Ljc0MyUyQzc5LjE2NyUyMDU2MC42NTIlMkM3O
 C40MjUlMjBDNTYyLjYyMyUyQzc3LjY1OCUyMDU2NC4yOTclMkM3Ni42MzQlMjA1NjUuOTY1JTJ
 DNzQuOTY1JTIwQzU2Ny42MzMlMkM3My4yOTYlMjA1NjguNjU5JTJDNzEuNjI1JTIwNTY5LjQyN
 SUyQzY5LjY1MSUyMEM1NzAuMTY3JTJDNjcuNzQzJTIwNTcwLjY3NCUyQzY1LjU2MiUyMDU3MC4
 4MiUyQzYyLjM2OSUyMEM1NzAuOTY2JTJDNTkuMTclMjA1NzElMkM1OC4xNDclMjA1NzElMkM1M
 CUyMEM1NzElMkM0MS44NTElMjA1NzAuOTY2JTJDNDAuODMxJTIwNTcwLjgyJTJDMzcuNjMxJTI
 yJTNFJTNDJTJGcGF0aCUzRSUzQyUyRmclM0UlM0MlMkZnJTNFJTNDJTJGZyUzRSUzQyUyRnN2Z
 yUzRSUzQyUyRmRpdiUzRSUzQ2RpdiUyMHN0eWxlJTNEJTIycGFkZGluZy10b3AlM0ElMjA4cHg
 lM0IlMjIlM0UlMjAlM0NkaXYlMjBzdHlsZSUzRCUyMiUyMGNvbG9yJTNBJTIzMzg5N2YwJTNCJ
 TIwZm9udC1mYW1pbHklM0FBcmlhbCUyQ3NhbnMtc2VyaWYlM0IlMjBmb250LXNpemUlM0ExNHB
 4JTNCJTIwZm9udC1zdHlsZSUzQW5vcm1hbCUzQiUyMGZvbnQtd2VpZ2h0JTNBNTUwJTNCJTIwb
 GluZS1oZWlnaHQlM0ExOHB4JTNCJTIyJTNFVmlldyUyMHRoaXMlMjBwb3N0JTIwb24lMjBJbnN
 0YWdyYW0lM0MlMkZkaXYlM0UlM0MlMkZkaXYlM0UlM0NkaXYlMjBzdHlsZSUzRCUyMnBhZGRpb
 mclM0ElMjAxMi41JTI1JTIwMCUzQiUyMiUzRSUzQyUyRmRpdiUzRSUyMCUzQ2RpdiUyMHN0eWx
 lJTNEJTIyZGlzcGxheSUzQSUyMGZsZXglM0IlMjBmbGV4LWRpcmVjdGlvbiUzQSUyMHJvdyUzQ
 iUyMG1hcmdpbi1ib3R0b20lM0ElMjAxNHB4JTNCJTIwYWxpZ24taXRlbXMlM0ElMjBjZW50ZXI
 lM0IlMjIlM0UlM0NkaXYlM0UlMjAlM0NkaXYlMjBzdHlsZSUzRCUyMmJhY2tncm91bmQtY29sb
 3IlM0ElMjAlMjNGNEY0RjQlM0IlMjBib3JkZXItcmFkaXVzJTNBJTIwNTAlMjUlM0IlMjBoZWl
 naHQlM0ElMjAxMi41cHglM0IlMjB3aWR0aCUzQSUyMDEyLjVweCUzQiUyMHRyYW5zZm9ybSUzQ
 SUyMHRyYW5zbGF0ZVglMjgwcHglMjklMjB0cmFuc2xhdGVZJTI4N3B4JTI5JTNCJTIyJTNFJTN
 DJTJGZGl2JTNFJTIwJTNDZGl2JTIwc3R5bGUlM0QlMjJiYWNrZ3JvdW5kLWNvbG9yJTNBJTIwJ
 TIzRjRGNEY0JTNCJTIwaGVpZ2h0JTNBJTIwMTIuNXB4JTNCJTIwdHJhbnNmb3JtJTNBJTIwcm9
 0YXRlJTI4LTQ1ZGVnJTI5JTIwdHJhbnNsYXRlWCUyODNweCUyOSUyMHRyYW5zbGF0ZVklMjgxc
 HglMjklM0IlMjB3aWR0aCUzQSUyMDEyLjVweCUzQiUyMGZsZXgtZ3JvdyUzQSUyMDAlM0IlMjB
 tYXJnaW4tcmlnaHQlM0ElMjAxNHB4JTNCJTIwbWFyZ2luLWxlZnQlM0ElMjAycHglM0IlMjIlM
 0UlM0MlMkZkaXYlM0UlMjAlM0NkaXYlMjBzdHlsZSUzRCUyMmJhY2tncm91bmQtY29sb3IlM0E
 lMjAlMjNGNEY0RjQlM0IlMjBib3JkZXItcmFkaXVzJTNBJTIwNTAlMjUlM0IlMjBoZWlnaHQlM
 0ElMjAxMi41cHglM0IlMjB3aWR0aCUzQSUyMDEyLjVweCUzQiUyMHRyYW5zZm9ybSUzQSUyMHR
 yYW5zbGF0ZVglMjg5cHglMjklMjB0cmFuc2xhdGVZJTI4LTE4cHglMjklM0IlMjIlM0UlM0MlM
 kZkaXYlM0UlM0MlMkZkaXYlM0UlM0NkaXYlMjBzdHlsZSUzRCUyMm1hcmdpbi1sZWZ0JTNBJTI
 wOHB4JTNCJTIyJTNFJTIwJTNDZGl2JTIwc3R5bGUlM0QlMjIlMjBiYWNrZ3JvdW5kLWNvbG9yJ
 TNBJTIwJTIzRjRGNEY0JTNCJTIwYm9yZGVyLXJhZGl1cyUzQSUyMDUwJTI1JTNCJTIwZmxleC1
 ncm93JTNBJTIwMCUzQiUyMGhlaWdodCUzQSUyMDIwcHglM0IlMjB3aWR0aCUzQSUyMDIwcHglM
 0IlMjIlM0UlM0MlMkZkaXYlM0UlMjAlM0NkaXYlMjBzdHlsZSUzRCUyMiUyMHdpZHRoJTNBJTI
 wMCUzQiUyMGhlaWdodCUzQSUyMDAlM0IlMjBib3JkZXItdG9wJTNBJTIwMnB4JTIwc29saWQlM
 jB0cmFuc3BhcmVudCUzQiUyMGJvcmRlci1sZWZ0JTNBJTIwNnB4JTIwc29saWQlMjAlMjNmNGY
 0ZjQlM0IlMjBib3JkZXItYm90dG9tJTNBJTIwMnB4JTIwc29saWQlMjB0cmFuc3BhcmVudCUzQ
 iUyMHRyYW5zZm9ybSUzQSUyMHRyYW5zbGF0ZVglMjgxNnB4JTI5JTIwdHJhbnNsYXRlWSUyOC0
 0cHglMjklMjByb3RhdGUlMjgzMGRlZyUyOSUyMiUzRSUzQyUyRmRpdiUzRSUzQyUyRmRpdiUzR
 SUzQ2RpdiUyMHN0eWxlJTNEJTIybWFyZ2luLWxlZnQlM0ElMjBhdXRvJTNCJTIyJTNFJTIwJTN
 DZGl2JTIwc3R5bGUlM0QlMjIlMjB3aWR0aCUzQSUyMDBweCUzQiUyMGJvcmRlci10b3AlM0ElM
 jA4cHglMjBzb2xpZCUyMCUyM0Y0RjRGNCUzQiUyMGJvcmRlci1yaWdodCUzQSUyMDhweCUyMHN
 vbGlkJTIwdHJhbnNwYXJlbnQlM0IlMjB0cmFuc2Zvcm0lM0ElMjB0cmFuc2xhdGVZJTI4MTZwe
 CUyOSUzQiUyMiUzRSUzQyUyRmRpdiUzRSUyMCUzQ2RpdiUyMHN0eWxlJTNEJTIyJTIwYmFja2d
 yb3VuZC1jb2xvciUzQSUyMCUyM0Y0RjRGNCUzQiUyMGZsZXgtZ3JvdyUzQSUyMDAlM0IlMjBoZ
 WlnaHQlM0ElMjAxMnB4JTNCJTIwd2lkdGglM0ElMjAxNnB4JTNCJTIwdHJhbnNmb3JtJTNBJTI
 wdHJhbnNsYXRlWSUyOC00cHglMjklM0IlMjIlM0UlM0MlMkZkaXYlM0UlMjAlM0NkaXYlMjBzd
 HlsZSUzRCUyMiUyMHdpZHRoJTNBJTIwMCUzQiUyMGhlaWdodCUzQSUyMDAlM0IlMjBib3JkZXI
 tdG9wJTNBJTIwOHB4JTIwc29saWQlMjAlMjNGNEY0RjQlM0IlMjBib3JkZXItbGVmdCUzQSUyM
 DhweCUyMHNvbGlkJTIwdHJhbnNwYXJlbnQlM0IlMjB0cmFuc2Zvcm0lM0ElMjB0cmFuc2xhdGV
 ZJTI4LTRweCUyOSUyMHRyYW5zbGF0ZVglMjg4cHglMjklM0IlMjIlM0UlM0MlMkZkaXYlM0UlM
 0MlMkZkaXYlM0UlM0MlMkZkaXYlM0UlMjAlM0NkaXYlMjBzdHlsZSUzRCUyMmRpc3BsYXklM0E
 lMjBmbGV4JTNCJTIwZmxleC1kaXJlY3Rpb24lM0ElMjBjb2x1bW4lM0IlMjBmbGV4LWdyb3clM
 0ElMjAxJTNCJTIwanVzdGlmeS1jb250ZW50JTNBJTIwY2VudGVyJTNCJTIwbWFyZ2luLWJvdHR
 vbSUzQSUyMDI0cHglM0IlMjIlM0UlMjAlM0NkaXYlMjBzdHlsZSUzRCUyMiUyMGJhY2tncm91b
 mQtY29sb3IlM0ElMjAlMjNGNEY0RjQlM0IlMjBib3JkZXItcmFkaXVzJTNBJTIwNHB4JTNCJTI
 wZmxleC1ncm93JTNBJTIwMCUzQiUyMGhlaWdodCUzQSUyMDE0cHglM0IlMjBtYXJnaW4tYm90d
 G9tJTNBJTIwNnB4JTNCJTIwd2lkdGglM0ElMjAyMjRweCUzQiUyMiUzRSUzQyUyRmRpdiUzRSU
 yMCUzQ2RpdiUyMHN0eWxlJTNEJTIyJTIwYmFja2dyb3VuZC1jb2xvciUzQSUyMCUyM0Y0RjRGN
 CUzQiUyMGJvcmRlci1yYWRpdXMlM0ElMjA0cHglM0IlMjBmbGV4LWdyb3clM0ElMjAwJTNCJTI
 waGVpZ2h0JTNBJTIwMTRweCUzQiUyMHdpZHRoJTNBJTIwMTQ0cHglM0IlMjIlM0UlM0MlMkZka
 XYlM0UlM0MlMkZkaXYlM0UlM0MlMkZhJTNFJTNDcCUyMHN0eWxlJTNEJTIyJTIwY29sb3IlM0E
 lMjNjOWM4Y2QlM0IlMjBmb250LWZhbWlseSUzQUFyaWFsJTJDc2Fucy1zZXJpZiUzQiUyMGZvb
 nQtc2l6ZSUzQTE0cHglM0IlMjBsaW5lLWhlaWdodCUzQTE3cHglM0IlMjBtYXJnaW4tYm90dG9
 tJTNBMCUzQiUyMG1hcmdpbi10b3AlM0E4cHglM0IlMjBvdmVyZmxvdyUzQWhpZGRlbiUzQiUyM
 HBhZGRpbmclM0E4cHglMjAwJTIwN3B4JTNCJTIwdGV4dC1hbGlnbiUzQWNlbnRlciUzQiUyMHR
 leHQtb3ZlcmZsb3clM0FlbGxpcHNpcyUzQiUyMHdoaXRlLXNwYWNlJTNBbm93cmFwJTNCJTIyJ
 TNFJTNDYSUyMGhyZWYlM0QlMjJodHRwcyUzQSUyRiUyRnd3dy5pbnN0YWdyYW0uY29tJTJGcmV
 lbCUyRkREYk45UTd4SVJ6JTJGJTNGdXRtX3NvdXJjZSUzRGlnX2VtYmVkJTI2YW1wJTNCdXRtX
 2NhbXBhaWduJTNEbG9hZGluZyUyMiUyMHN0eWxlJTNEJTIyJTIwY29sb3IlM0ElMjNjOWM4Y2Q
 lM0IlMjBmb250LWZhbWlseSUzQUFyaWFsJTJDc2Fucy1zZXJpZiUzQiUyMGZvbnQtc2l6ZSUzQ
 TE0cHglM0IlMjBmb250LXN0eWxlJTNBbm9ybWFsJTNCJTIwZm9udC13ZWlnaHQlM0Fub3JtYWw
 lM0IlMjBsaW5lLWhlaWdodCUzQTE3cHglM0IlMjB0ZXh0LWRlY29yYXRpb24lM0Fub25lJTNCJ
 TIyJTIwdGFyZ2V0JTNEJTIyX2JsYW5rJTIyJTNFQSUyMHBvc3QlMjBzaGFyZWQlMjBieSUyMEN
 BTE0lMjAlN0MlMjBBQ1BTJTIwJTI4JTQwY2FubGFib3VybWVkaWElMjklM0MlMkZhJTNFJTNDJ
 TJGcCUzRSUzQyUyRmRpdiUzRSUzQyUyRmJsb2NrcXVvdGUlM0UlMEElM0NzY3JpcHQlMjBhc3l
 uYyUyMHNyYyUzRCUyMiUyRiUyRnd3dy5pbnN0YWdyYW0uY29tJTJGZW1iZWQuanMlMjIlM0UlM
 0MlMkZzY3JpcHQlM0U=[/vc_raw_html][/vc_column][/vc_row][vc_row][vc_column][
 vc_empty_space height="50px"][/vc_column][/vc_row][vc_row][vc_column][vc_c
 olumn_text css=""]\nEvent Photo Gallery\n[/vc_column_text][vc_media_grid g
 ap="15" css="" grid_id="vc_gid:1765423756362-842a0a98-d6d3-8" include="402
 8\,4029\,4030\,4032\,4034\,4036\,4042\,4044\,4040\,4038\,4047\,4048"][/vc_
 column][/vc_row][vc_row][vc_column][vc_empty_space height="50px"][/vc_colu
 mn][/vc_row][vc_row][vc_column][vc_column_text css=""]\nWorkshops &amp\; P
 resenters\n[/vc_column_text][/vc_column][/vc_row][vc_row gap="20" equal_he
 ight="yes" content_placement="middle"][vc_column width="1/5"][vc_single_im
 age image="3288" img_size="full" alignment="center" style="vc_box_border_c
 ircle_2" css=""][/vc_column][vc_column width="4/5"][vc_column_text css=""]
 \nRunning Engaging Online Meetings &amp\; Webinars with Carl Mavromichalis
 \nLearn how to effectively run online meetings and webinars for any group 
 size\, from small locals to large sectors. Whether you’re planning a lun
 ch-and-learn\, seminar\, or AGM\, this workshop will teach you how to set 
 up and manage remote meetings with ease—from the comfort of your own cou
 ch. Gain practical tips on organizing\, hosting\, and increasing member en
 gagement in virtual spaces\, ensuring your online meetings are just as imp
 actful as in-person ones.[/vc_column_text][/vc_column][/vc_row][vc_row gap
 ="20" equal_height="yes" content_placement="middle"][vc_column width="1/5"
 ][vc_single_image image="3963" img_size="full" alignment="center" style="v
 c_box_border_circle_2" css=""][/vc_column][vc_column width="4/5"][vc_colum
 n_text css=""]\nFilm\, Edit\, Mobilize: Smartphone Videography for Change 
 with Anna Jover\nGot a smartphone? Then you’ve got all you need to make 
 some noise! In this 90min crash course\, we’ll break down how to shoot q
 uick\, attention-grabbing videos (aka reels) that get members engaged and 
 rally support. From filming tips to storytelling tricks\, you’ll walk aw
 ay ready to create video content that pops on social media—no fancy equi
 pment or editing skills needed. Just bring your phone and let’s shake th
 ings up![/vc_column_text][/vc_column][/vc_row][vc_row gap="20" equal_heigh
 t="yes" content_placement="middle"][vc_column width="1/5"][vc_single_image
  image="2564" img_size="full" alignment="center" style="vc_box_border_circ
 le_2" css=""][/vc_column][vc_column width="4/5"][vc_column_text css=""]\nW
 riting great headlines with David Climenhaga\nHeadlines make or break our 
 texts. Whether the headline is for an article\, a blog post or even social
  media text\, how we've crafted the healine can make or break someone's in
 terest in reading on. In this session\, David Climenhaga will present tech
 niques to develop compelling and punchy headlines to help you break throug
 h the noise.[/vc_column_text][/vc_column][/vc_row][vc_row gap="20" equal_h
 eight="yes" content_placement="middle"][vc_column width="1/5"][vc_single_i
 mage image="3936" img_size="full" alignment="center" style="vc_box_border_
 circle_2" css=""][/vc_column][vc_column width="4/5"][vc_column_text css=""
 ]\nMedia Relations with Nora Loreto\nAmp up your media relations work! Thi
 s workshop by Nora Loreto will show you ways to get your message into the 
 faces of your members and the public at large. Learn how to craft a compel
 ling narrative and speak in such a way that your message rises above the f
 ray![/vc_column_text][/vc_column][/vc_row][vc_row gap="20" equal_height="y
 es" content_placement="middle"][vc_column width="1/5"][vc_single_image ima
 ge="3937" img_size="full" alignment="center" style="vc_box_border_circle_2
 " css=""][/vc_column][vc_column width="4/5"][vc_column_text css=""]\nCanva
 : Tips\, Tricks &amp\; Templates with Teuila Mau\nUnions have rapidly move
 d to using Canva in their communications work\, but are you using it its f
 ull capacity? In this workshop\, delegates will learn all about Canva and\
 , importantly\, how to get the most out of your design work.[/vc_column_te
 xt][/vc_column][/vc_row][vc_row gap="20" equal_height="yes" content_placem
 ent="middle"][vc_column width="1/5"][vc_single_image image="4024" img_size
 ="full" alignment="center" style="vc_box_border_circle_2" css=""][/vc_colu
 mn][vc_column width="4/5"][vc_column_text css=""]\nKeeping your newsletter
  writing fresh with Cam Welch\nWriting a compelling regular newsletter can
  feel like a slog when you're short on time and ideas. In this workshop\, 
 Cam will walk you through his tricks to produce a daily news newsletter an
 d how to make it as painless (and even fun!) as possible.[/vc_column_text]
 [/vc_column][/vc_row][vc_row gap="20" equal_height="yes" content_placement
 ="middle"][vc_column width="1/5"][vc_single_image image="4020" img_size="f
 ull" alignment="center" style="vc_box_border_circle_2" css=""][/vc_column]
 [vc_column width="4/5"][vc_column_text css=""]\nDirect Action with Alexand
 er Delorme\nHow did union members win big before collective bargaining? Th
 rough direct action! This workshop will provide an introduction to direct 
 action and how good communications is essential to successful organizing a
 t work and in your community.[/vc_column_text][/vc_column][/vc_row][vc_row
  disable_element="yes"][vc_column][wgl_timetabs_wrapper][wgl_timetabs_cont
 ainer tab_title="Event Schedule" tab_sub_title="Mini-Conference" tab_id="1
 727360132366-1eb309ac-bd1d"][wgl_timetabs_item time="9:00am" title="Regist
 ration &amp\; Opening Remarks" button_text="" button_text_color="#232323" 
 button_text_color_hover="#ffffff" button_bg_color="#ffffff" button_bg_colo
 r_hover="#7c529c" button_border_color="#7c529c" button_border_color_hover=
 "#7c529c" description="Join us as we settle in and kick off our full day o
 f learning!"][wgl_timetabs_item time="9:30am" title="Workshop Block 1" but
 ton_text="" button_text_color="#232323" button_text_color_hover="#ffffff" 
 button_bg_color="#ffffff" button_bg_color_hover="#7c529c" button_border_co
 lor="#7c529c" button_border_color_hover="#7c529c" description="Direct Acti
 on with Alexander Delorme\nFilm\, Edit\, Mobilize: Smartphone Videography 
 for Change with Anna Jover (Part 1)"][wgl_timetabs_item time="10:45am" tit
 le="Break" button_text="" button_text_color="#232323" button_text_color_ho
 ver="#ffffff" button_bg_color="#ffffff" button_bg_color_hover="#7c529c" bu
 tton_border_color="#7c529c" button_border_color_hover="#7c529c"][wgl_timet
 abs_item time="11:00am" title="Workshop Block 2" button_text="" button_tex
 t_color="#232323" button_text_color_hover="#ffffff" button_bg_color="#ffff
 ff" button_bg_color_hover="#7c529c" button_border_color="#7c529c" button_b
 order_color_hover="#7c529c" description="Writing great headlines with Davi
 d Climenhaga\nFilm\, Edit\, Mobilize: Smartphone Videography for Change wi
 th Anna Jover (Part 2)"][wgl_timetabs_item time="12:15pm" title="Lunch" bu
 tton_text="" button_text_color="#232323" button_text_color_hover="#ffffff"
  button_bg_color="#ffffff" button_bg_color_hover="#7c529c" button_border_c
 olor="#7c529c" button_border_color_hover="#7c529c" description="Lunch will
  be provided for all attendees."][wgl_timetabs_item time="1:00pm" title="W
 orkshop Block 3" button_text="" button_text_color="#232323" button_text_co
 lor_hover="#ffffff" button_bg_color="#ffffff" button_bg_color_hover="#7c52
 9c" button_border_color="#7c529c" button_border_color_hover="#7c529c" desc
 ription="Keeping Your Newsletter Writing Fresh with Cam Welch\nCanva: Tips
 \, Tricks &amp\; Templates with Teuila Mau"][wgl_timetabs_item time="2:15p
 m" title="Break" button_text="" button_text_color="#232323" button_text_co
 lor_hover="#ffffff" button_bg_color="#ffffff" button_bg_color_hover="#7c52
 9c" button_border_color="#7c529c" button_border_color_hover="#7c529c"][wgl
 _timetabs_item time="2:30pm" title="Workshop Block 4" button_text="" butto
 n_text_color="#232323" button_text_color_hover="#ffffff" button_bg_color="
 #ffffff" button_bg_color_hover="#7c529c" button_border_color="#7c529c" but
 ton_border_color_hover="#7c529c" description="Running Engaging Online Meet
 ings &amp\; Webinars with Carl Mavromichalis\nMedia Relations with Nora Lo
 reto"][wgl_timetabs_item time="3:45pm" title="Closing Remarks" button_text
 ="" button_text_color="#232323" button_text_color_hover="#ffffff" button_b
 g_color="#ffffff" button_bg_color_hover="#7c529c" button_border_color="#7c
 529c" button_border_color_hover="#7c529c"][/wgl_timetabs_container][/wgl_t
 imetabs_wrapper][/vc_column][/vc_row][vc_row disable_element="yes"][vc_col
 umn][vc_column_text css=""]\nHotels Nearby\n[/vc_column_text][vc_column_te
 xt css=""]\nCALM staff will be staying at Chateau Victoria which is locate
 d near theDock (722 Cormorant Street\, Victoria\, V8W 1P8). The hotel is u
 nionized and is roughly a 5-minute drive or 14-minute walk from theDock. I
 f you have a Union Savings account\, you can find discounted rates on thei
 r website at unionsavings.ca.\n[/vc_column_text][vc_empty_space][/vc_colum
 n][/vc_row][vc_row disable_element="yes"][vc_column][vc_column_text]\nRegi
 stration Form\n[/vc_column_text][wpforms id="3884" title="false" descripti
 on="false"][/vc_column][/vc_row]
ATTACH;FMTTYPE=image/jpeg:https://i0.wp.com/uniontraining.ca/wp-content/up
 loads/2024/07/calm-miniconference-victoria.jpg?fit=1024%2C700&ssl=1
LOCATION:theDock - Centre for Social Impact\, 722 Cormorant Street\, Victor
 ia\, V8W 1P8\, Canada
X-APPLE-STRUCTURED-LOCATION;VALUE=URI;X-ADDRESS=722 Cormorant Street\, Vict
 oria\, V8W 1P8\, Canada;X-APPLE-RADIUS=100;X-TITLE=theDock - Centre for So
 cial Impact:geo:0,0
END:VEVENT
BEGIN:VTIMEZONE
TZID:America/Vancouver
X-LIC-LOCATION:America/Vancouver
BEGIN:STANDARD
DTSTART:20241103T010000
TZOFFSETFROM:-0700
TZOFFSETTO:-0800
TZNAME:PST
END:STANDARD
END:VTIMEZONE
END:VCALENDAR