BEGIN:VCALENDAR
VERSION:2.0
PRODID:-//wp-events-plugin.com//7.2.3.1//EN
BEGIN:VEVENT
UID:13@uniontraining.ca
DTSTART;TZID=America/Winnipeg:20241025T090000
DTEND;TZID=America/Winnipeg:20241025T160000
DTSTAMP:20241109T200150Z
URL:https://uniontraining.ca/events/winnipeg-mini-conference/
SUMMARY:Winnipeg Mini-Conference
DESCRIPTION:[vc_row][vc_column][vc_empty_space height="40px"][vc_custom_hea
 ding text="CALM Winnipeg Mini-Conference" font_container="tag:h2|text_alig
 n:center" use_theme_fonts="yes" css=""][vc_empty_space height="20px"][/vc_
 column][/vc_row][vc_row gap="20"][vc_column width="2/3"][vc_column_text cs
 s=""]Hosted by UFCW Local 832\, this day-long mini-conference featured a v
 ariety of informative and inspiring workshops including:\n\n 	Progressive 
 Finance Policy Research and Knowledge Mobilization\n 	Developing a communi
 cations strategy for change-makers\n 	Media Relations\n 	Canva: Tips\, Tri
 cks\, and Templates\n\nFor links to this event’s presentations\, along w
 ith a long list of additional resources\, visit calm.ca.\n\nWe invite you 
 to join us one of our next events including more mini-conferences and the 
 annual CALM Conference![/vc_column_text][/vc_column][vc_column width="1/3"
 ][vc_raw_html css=""]JTNDYmxvY2txdW90ZSUyMGNsYXNzJTNEJTIyaW5zdGFncmFtLW1lZ
 GlhJTIyJTIwZGF0YS1pbnN0Z3JtLXBlcm1hbGluayUzRCUyMmh0dHBzJTNBJTJGJTJGd3d3Lml
 uc3RhZ3JhbS5jb20lMkZyZWVsJTJGREJ1S1Bub3lkVXUlMkYlM0Z1dG1fc291cmNlJTNEaWdfZ
 W1iZWQlMjZhbXAlM0J1dG1fY2FtcGFpZ24lM0Rsb2FkaW5nJTIyJTIwZGF0YS1pbnN0Z3JtLXZ
 lcnNpb24lM0QlMjIxNCUyMiUyMHN0eWxlJTNEJTIyJTIwYmFja2dyb3VuZCUzQSUyM0ZGRiUzQ
 iUyMGJvcmRlciUzQTAlM0IlMjBib3JkZXItcmFkaXVzJTNBM3B4JTNCJTIwYm94LXNoYWRvdyU
 zQTAlMjAwJTIwMXB4JTIwMCUyMHJnYmElMjgwJTJDMCUyQzAlMkMwLjUlMjklMkMwJTIwMXB4J
 TIwMTBweCUyMDAlMjByZ2JhJTI4MCUyQzAlMkMwJTJDMC4xNSUyOSUzQiUyMG1hcmdpbiUzQSU
 yMDFweCUzQiUyMG1heC13aWR0aCUzQTU0MHB4JTNCJTIwbWluLXdpZHRoJTNBMzI2cHglM0IlM
 jBwYWRkaW5nJTNBMCUzQiUyMHdpZHRoJTNBOTkuMzc1JTI1JTNCJTIwd2lkdGglM0Etd2Via2l
 0LWNhbGMlMjgxMDAlMjUlMjAtJTIwMnB4JTI5JTNCJTIwd2lkdGglM0FjYWxjJTI4MTAwJTI1J
 TIwLSUyMDJweCUyOSUzQiUyMiUzRSUzQ2RpdiUyMHN0eWxlJTNEJTIycGFkZGluZyUzQTE2cHg
 lM0IlMjIlM0UlMjAlM0NhJTIwaHJlZiUzRCUyMmh0dHBzJTNBJTJGJTJGd3d3Lmluc3RhZ3Jhb
 S5jb20lMkZyZWVsJTJGREJ1S1Bub3lkVXUlMkYlM0Z1dG1fc291cmNlJTNEaWdfZW1iZWQlMjZ
 hbXAlM0J1dG1fY2FtcGFpZ24lM0Rsb2FkaW5nJTIyJTIwc3R5bGUlM0QlMjIlMjBiYWNrZ3Jvd
 W5kJTNBJTIzRkZGRkZGJTNCJTIwbGluZS1oZWlnaHQlM0EwJTNCJTIwcGFkZGluZyUzQTAlMjA
 wJTNCJTIwdGV4dC1hbGlnbiUzQWNlbnRlciUzQiUyMHRleHQtZGVjb3JhdGlvbiUzQW5vbmUlM
 0IlMjB3aWR0aCUzQTEwMCUyNSUzQiUyMiUyMHRhcmdldCUzRCUyMl9ibGFuayUyMiUzRSUyMCU
 zQ2RpdiUyMHN0eWxlJTNEJTIyJTIwZGlzcGxheSUzQSUyMGZsZXglM0IlMjBmbGV4LWRpcmVjd
 GlvbiUzQSUyMHJvdyUzQiUyMGFsaWduLWl0ZW1zJTNBJTIwY2VudGVyJTNCJTIyJTNFJTIwJTN
 DZGl2JTIwc3R5bGUlM0QlMjJiYWNrZ3JvdW5kLWNvbG9yJTNBJTIwJTIzRjRGNEY0JTNCJTIwY
 m9yZGVyLXJhZGl1cyUzQSUyMDUwJTI1JTNCJTIwZmxleC1ncm93JTNBJTIwMCUzQiUyMGhlaWd
 odCUzQSUyMDQwcHglM0IlMjBtYXJnaW4tcmlnaHQlM0ElMjAxNHB4JTNCJTIwd2lkdGglM0ElM
 jA0MHB4JTNCJTIyJTNFJTNDJTJGZGl2JTNFJTIwJTNDZGl2JTIwc3R5bGUlM0QlMjJkaXNwbGF
 5JTNBJTIwZmxleCUzQiUyMGZsZXgtZGlyZWN0aW9uJTNBJTIwY29sdW1uJTNCJTIwZmxleC1nc
 m93JTNBJTIwMSUzQiUyMGp1c3RpZnktY29udGVudCUzQSUyMGNlbnRlciUzQiUyMiUzRSUyMCU
 zQ2RpdiUyMHN0eWxlJTNEJTIyJTIwYmFja2dyb3VuZC1jb2xvciUzQSUyMCUyM0Y0RjRGNCUzQ
 iUyMGJvcmRlci1yYWRpdXMlM0ElMjA0cHglM0IlMjBmbGV4LWdyb3clM0ElMjAwJTNCJTIwaGV
 pZ2h0JTNBJTIwMTRweCUzQiUyMG1hcmdpbi1ib3R0b20lM0ElMjA2cHglM0IlMjB3aWR0aCUzQ
 SUyMDEwMHB4JTNCJTIyJTNFJTNDJTJGZGl2JTNFJTIwJTNDZGl2JTIwc3R5bGUlM0QlMjIlMjB
 iYWNrZ3JvdW5kLWNvbG9yJTNBJTIwJTIzRjRGNEY0JTNCJTIwYm9yZGVyLXJhZGl1cyUzQSUyM
 DRweCUzQiUyMGZsZXgtZ3JvdyUzQSUyMDAlM0IlMjBoZWlnaHQlM0ElMjAxNHB4JTNCJTIwd2l
 kdGglM0ElMjA2MHB4JTNCJTIyJTNFJTNDJTJGZGl2JTNFJTNDJTJGZGl2JTNFJTNDJTJGZGl2J
 TNFJTNDZGl2JTIwc3R5bGUlM0QlMjJwYWRkaW5nJTNBJTIwMTklMjUlMjAwJTNCJTIyJTNFJTN
 DJTJGZGl2JTNFJTIwJTNDZGl2JTIwc3R5bGUlM0QlMjJkaXNwbGF5JTNBYmxvY2slM0IlMjBoZ
 WlnaHQlM0E1MHB4JTNCJTIwbWFyZ2luJTNBMCUyMGF1dG8lMjAxMnB4JTNCJTIwd2lkdGglM0E
 1MHB4JTNCJTIyJTNFJTNDc3ZnJTIwd2lkdGglM0QlMjI1MHB4JTIyJTIwaGVpZ2h0JTNEJTIyN
 TBweCUyMiUyMHZpZXdCb3glM0QlMjIwJTIwMCUyMDYwJTIwNjAlMjIlMjB2ZXJzaW9uJTNEJTI
 yMS4xJTIyJTIweG1sbnMlM0QlMjJodHRwcyUzQSUyRiUyRnd3dy53My5vcmclMkYyMDAwJTJGc
 3ZnJTIyJTIweG1sbnMlM0F4bGluayUzRCUyMmh0dHBzJTNBJTJGJTJGd3d3LnczLm9yZyUyRjE
 5OTklMkZ4bGluayUyMiUzRSUzQ2clMjBzdHJva2UlM0QlMjJub25lJTIyJTIwc3Ryb2tlLXdpZ
 HRoJTNEJTIyMSUyMiUyMGZpbGwlM0QlMjJub25lJTIyJTIwZmlsbC1ydWxlJTNEJTIyZXZlbm9
 kZCUyMiUzRSUzQ2clMjB0cmFuc2Zvcm0lM0QlMjJ0cmFuc2xhdGUlMjgtNTExLjAwMDAwMCUyQ
 yUyMC0yMC4wMDAwMDAlMjklMjIlMjBmaWxsJTNEJTIyJTIzMDAwMDAwJTIyJTNFJTNDZyUzRSU
 zQ3BhdGglMjBkJTNEJTIyTTU1Ni44NjklMkMzMC40MSUyMEM1NTQuODE0JTJDMzAuNDElMjA1N
 TMuMTQ4JTJDMzIuMDc2JTIwNTUzLjE0OCUyQzM0LjEzMSUyMEM1NTMuMTQ4JTJDMzYuMTg2JTI
 wNTU0LjgxNCUyQzM3Ljg1MiUyMDU1Ni44NjklMkMzNy44NTIlMjBDNTU4LjkyNCUyQzM3Ljg1M
 iUyMDU2MC41OSUyQzM2LjE4NiUyMDU2MC41OSUyQzM0LjEzMSUyMEM1NjAuNTklMkMzMi4wNzY
 lMjA1NTguOTI0JTJDMzAuNDElMjA1NTYuODY5JTJDMzAuNDElMjBNNTQxJTJDNjAuNjU3JTIwQ
 zUzNS4xMTQlMkM2MC42NTclMjA1MzAuMzQyJTJDNTUuODg3JTIwNTMwLjM0MiUyQzUwJTIwQzU
 zMC4zNDIlMkM0NC4xMTQlMjA1MzUuMTE0JTJDMzkuMzQyJTIwNTQxJTJDMzkuMzQyJTIwQzU0N
 i44ODclMkMzOS4zNDIlMjA1NTEuNjU4JTJDNDQuMTE0JTIwNTUxLjY1OCUyQzUwJTIwQzU1MS4
 2NTglMkM1NS44ODclMjA1NDYuODg3JTJDNjAuNjU3JTIwNTQxJTJDNjAuNjU3JTIwTTU0MSUyQ
 zMzLjg4NiUyMEM1MzIuMSUyQzMzLjg4NiUyMDUyNC44ODYlMkM0MS4xJTIwNTI0Ljg4NiUyQzU
 wJTIwQzUyNC44ODYlMkM1OC44OTklMjA1MzIuMSUyQzY2LjExMyUyMDU0MSUyQzY2LjExMyUyM
 EM1NDkuOSUyQzY2LjExMyUyMDU1Ny4xMTUlMkM1OC44OTklMjA1NTcuMTE1JTJDNTAlMjBDNTU
 3LjExNSUyQzQxLjElMjA1NDkuOSUyQzMzLjg4NiUyMDU0MSUyQzMzLjg4NiUyME01NjUuMzc4J
 TJDNjIuMTAxJTIwQzU2NS4yNDQlMkM2NS4wMjIlMjA1NjQuNzU2JTJDNjYuNjA2JTIwNTY0LjM
 0NiUyQzY3LjY2MyUyMEM1NjMuODAzJTJDNjkuMDYlMjA1NjMuMTU0JTJDNzAuMDU3JTIwNTYyL
 jEwNiUyQzcxLjEwNiUyMEM1NjEuMDU4JTJDNzIuMTU1JTIwNTYwLjA2JTJDNzIuODAzJTIwNTU
 4LjY2MiUyQzczLjM0NyUyMEM1NTcuNjA3JTJDNzMuNzU3JTIwNTU2LjAyMSUyQzc0LjI0NCUyM
 DU1My4xMDIlMkM3NC4zNzglMjBDNTQ5Ljk0NCUyQzc0LjUyMSUyMDU0OC45OTclMkM3NC41NTI
 lMjA1NDElMkM3NC41NTIlMjBDNTMzLjAwMyUyQzc0LjU1MiUyMDUzMi4wNTYlMkM3NC41MjElM
 jA1MjguODk4JTJDNzQuMzc4JTIwQzUyNS45NzklMkM3NC4yNDQlMjA1MjQuMzkzJTJDNzMuNzU
 3JTIwNTIzLjMzOCUyQzczLjM0NyUyMEM1MjEuOTQlMkM3Mi44MDMlMjA1MjAuOTQyJTJDNzIuM
 TU1JTIwNTE5Ljg5NCUyQzcxLjEwNiUyMEM1MTguODQ2JTJDNzAuMDU3JTIwNTE4LjE5NyUyQzY
 5LjA2JTIwNTE3LjY1NCUyQzY3LjY2MyUyMEM1MTcuMjQ0JTJDNjYuNjA2JTIwNTE2Ljc1NSUyQ
 zY1LjAyMiUyMDUxNi42MjMlMkM2Mi4xMDElMjBDNTE2LjQ3OSUyQzU4Ljk0MyUyMDUxNi40NDg
 lMkM1Ny45OTYlMjA1MTYuNDQ4JTJDNTAlMjBDNTE2LjQ0OCUyQzQyLjAwMyUyMDUxNi40NzklM
 kM0MS4wNTYlMjA1MTYuNjIzJTJDMzcuODk5JTIwQzUxNi43NTUlMkMzNC45NzglMjA1MTcuMjQ
 0JTJDMzMuMzkxJTIwNTE3LjY1NCUyQzMyLjMzOCUyMEM1MTguMTk3JTJDMzAuOTM4JTIwNTE4L
 jg0NiUyQzI5Ljk0MiUyMDUxOS44OTQlMkMyOC44OTQlMjBDNTIwLjk0MiUyQzI3Ljg0NiUyMDU
 yMS45NCUyQzI3LjE5NiUyMDUyMy4zMzglMkMyNi42NTQlMjBDNTI0LjM5MyUyQzI2LjI0NCUyM
 DUyNS45NzklMkMyNS43NTYlMjA1MjguODk4JTJDMjUuNjIzJTIwQzUzMi4wNTclMkMyNS40Nzk
 lMjA1MzMuMDA0JTJDMjUuNDQ4JTIwNTQxJTJDMjUuNDQ4JTIwQzU0OC45OTclMkMyNS40NDglM
 jA1NDkuOTQzJTJDMjUuNDc5JTIwNTUzLjEwMiUyQzI1LjYyMyUyMEM1NTYuMDIxJTJDMjUuNzU
 2JTIwNTU3LjYwNyUyQzI2LjI0NCUyMDU1OC42NjIlMkMyNi42NTQlMjBDNTYwLjA2JTJDMjcuM
 Tk2JTIwNTYxLjA1OCUyQzI3Ljg0NiUyMDU2Mi4xMDYlMkMyOC44OTQlMjBDNTYzLjE1NCUyQzI
 5Ljk0MiUyMDU2My44MDMlMkMzMC45MzglMjA1NjQuMzQ2JTJDMzIuMzM4JTIwQzU2NC43NTYlM
 kMzMy4zOTElMjA1NjUuMjQ0JTJDMzQuOTc4JTIwNTY1LjM3OCUyQzM3Ljg5OSUyMEM1NjUuNTI
 yJTJDNDEuMDU2JTIwNTY1LjU1MiUyQzQyLjAwMyUyMDU2NS41NTIlMkM1MCUyMEM1NjUuNTUyJ
 TJDNTcuOTk2JTIwNTY1LjUyMiUyQzU4Ljk0MyUyMDU2NS4zNzglMkM2Mi4xMDElMjBNNTcwLjg
 yJTJDMzcuNjMxJTIwQzU3MC42NzQlMkMzNC40MzglMjA1NzAuMTY3JTJDMzIuMjU4JTIwNTY5L
 jQyNSUyQzMwLjM0OSUyMEM1NjguNjU5JTJDMjguMzc3JTIwNTY3LjYzMyUyQzI2LjcwMiUyMDU
 2NS45NjUlMkMyNS4wMzUlMjBDNTY0LjI5NyUyQzIzLjM2OCUyMDU2Mi42MjMlMkMyMi4zNDIlM
 jA1NjAuNjUyJTJDMjEuNTc1JTIwQzU1OC43NDMlMkMyMC44MzQlMjA1NTYuNTYyJTJDMjAuMzI
 2JTIwNTUzLjM2OSUyQzIwLjE4JTIwQzU1MC4xNjklMkMyMC4wMzMlMjA1NDkuMTQ4JTJDMjAlM
 jA1NDElMkMyMCUyMEM1MzIuODUzJTJDMjAlMjA1MzEuODMxJTJDMjAuMDMzJTIwNTI4LjYzMSU
 yQzIwLjE4JTIwQzUyNS40MzglMkMyMC4zMjYlMjA1MjMuMjU3JTJDMjAuODM0JTIwNTIxLjM0O
 SUyQzIxLjU3NSUyMEM1MTkuMzc2JTJDMjIuMzQyJTIwNTE3LjcwMyUyQzIzLjM2OCUyMDUxNi4
 wMzUlMkMyNS4wMzUlMjBDNTE0LjM2OCUyQzI2LjcwMiUyMDUxMy4zNDIlMkMyOC4zNzclMjA1M
 TIuNTc0JTJDMzAuMzQ5JTIwQzUxMS44MzQlMkMzMi4yNTglMjA1MTEuMzI2JTJDMzQuNDM4JTI
 wNTExLjE4MSUyQzM3LjYzMSUyMEM1MTEuMDM1JTJDNDAuODMxJTIwNTExJTJDNDEuODUxJTIwN
 TExJTJDNTAlMjBDNTExJTJDNTguMTQ3JTIwNTExLjAzNSUyQzU5LjE3JTIwNTExLjE4MSUyQzY
 yLjM2OSUyMEM1MTEuMzI2JTJDNjUuNTYyJTIwNTExLjgzNCUyQzY3Ljc0MyUyMDUxMi41NzQlM
 kM2OS42NTElMjBDNTEzLjM0MiUyQzcxLjYyNSUyMDUxNC4zNjglMkM3My4yOTYlMjA1MTYuMDM
 1JTJDNzQuOTY1JTIwQzUxNy43MDMlMkM3Ni42MzQlMjA1MTkuMzc2JTJDNzcuNjU4JTIwNTIxL
 jM0OSUyQzc4LjQyNSUyMEM1MjMuMjU3JTJDNzkuMTY3JTIwNTI1LjQzOCUyQzc5LjY3MyUyMDU
 yOC42MzElMkM3OS44MiUyMEM1MzEuODMxJTJDNzkuOTY1JTIwNTMyLjg1MyUyQzgwLjAwMSUyM
 DU0MSUyQzgwLjAwMSUyMEM1NDkuMTQ4JTJDODAuMDAxJTIwNTUwLjE2OSUyQzc5Ljk2NSUyMDU
 1My4zNjklMkM3OS44MiUyMEM1NTYuNTYyJTJDNzkuNjczJTIwNTU4Ljc0MyUyQzc5LjE2NyUyM
 DU2MC42NTIlMkM3OC40MjUlMjBDNTYyLjYyMyUyQzc3LjY1OCUyMDU2NC4yOTclMkM3Ni42MzQ
 lMjA1NjUuOTY1JTJDNzQuOTY1JTIwQzU2Ny42MzMlMkM3My4yOTYlMjA1NjguNjU5JTJDNzEuN
 jI1JTIwNTY5LjQyNSUyQzY5LjY1MSUyMEM1NzAuMTY3JTJDNjcuNzQzJTIwNTcwLjY3NCUyQzY
 1LjU2MiUyMDU3MC44MiUyQzYyLjM2OSUyMEM1NzAuOTY2JTJDNTkuMTclMjA1NzElMkM1OC4xN
 DclMjA1NzElMkM1MCUyMEM1NzElMkM0MS44NTElMjA1NzAuOTY2JTJDNDAuODMxJTIwNTcwLjg
 yJTJDMzcuNjMxJTIyJTNFJTNDJTJGcGF0aCUzRSUzQyUyRmclM0UlM0MlMkZnJTNFJTNDJTJGZ
 yUzRSUzQyUyRnN2ZyUzRSUzQyUyRmRpdiUzRSUzQ2RpdiUyMHN0eWxlJTNEJTIycGFkZGluZy1
 0b3AlM0ElMjA4cHglM0IlMjIlM0UlMjAlM0NkaXYlMjBzdHlsZSUzRCUyMiUyMGNvbG9yJTNBJ
 TIzMzg5N2YwJTNCJTIwZm9udC1mYW1pbHklM0FBcmlhbCUyQ3NhbnMtc2VyaWYlM0IlMjBmb25
 0LXNpemUlM0ExNHB4JTNCJTIwZm9udC1zdHlsZSUzQW5vcm1hbCUzQiUyMGZvbnQtd2VpZ2h0J
 TNBNTUwJTNCJTIwbGluZS1oZWlnaHQlM0ExOHB4JTNCJTIyJTNFVmlldyUyMHRoaXMlMjBwb3N
 0JTIwb24lMjBJbnN0YWdyYW0lM0MlMkZkaXYlM0UlM0MlMkZkaXYlM0UlM0NkaXYlMjBzdHlsZ
 SUzRCUyMnBhZGRpbmclM0ElMjAxMi41JTI1JTIwMCUzQiUyMiUzRSUzQyUyRmRpdiUzRSUyMCU
 zQ2RpdiUyMHN0eWxlJTNEJTIyZGlzcGxheSUzQSUyMGZsZXglM0IlMjBmbGV4LWRpcmVjdGlvb
 iUzQSUyMHJvdyUzQiUyMG1hcmdpbi1ib3R0b20lM0ElMjAxNHB4JTNCJTIwYWxpZ24taXRlbXM
 lM0ElMjBjZW50ZXIlM0IlMjIlM0UlM0NkaXYlM0UlMjAlM0NkaXYlMjBzdHlsZSUzRCUyMmJhY
 2tncm91bmQtY29sb3IlM0ElMjAlMjNGNEY0RjQlM0IlMjBib3JkZXItcmFkaXVzJTNBJTIwNTA
 lMjUlM0IlMjBoZWlnaHQlM0ElMjAxMi41cHglM0IlMjB3aWR0aCUzQSUyMDEyLjVweCUzQiUyM
 HRyYW5zZm9ybSUzQSUyMHRyYW5zbGF0ZVglMjgwcHglMjklMjB0cmFuc2xhdGVZJTI4N3B4JTI
 5JTNCJTIyJTNFJTNDJTJGZGl2JTNFJTIwJTNDZGl2JTIwc3R5bGUlM0QlMjJiYWNrZ3JvdW5kL
 WNvbG9yJTNBJTIwJTIzRjRGNEY0JTNCJTIwaGVpZ2h0JTNBJTIwMTIuNXB4JTNCJTIwdHJhbnN
 mb3JtJTNBJTIwcm90YXRlJTI4LTQ1ZGVnJTI5JTIwdHJhbnNsYXRlWCUyODNweCUyOSUyMHRyY
 W5zbGF0ZVklMjgxcHglMjklM0IlMjB3aWR0aCUzQSUyMDEyLjVweCUzQiUyMGZsZXgtZ3JvdyU
 zQSUyMDAlM0IlMjBtYXJnaW4tcmlnaHQlM0ElMjAxNHB4JTNCJTIwbWFyZ2luLWxlZnQlM0ElM
 jAycHglM0IlMjIlM0UlM0MlMkZkaXYlM0UlMjAlM0NkaXYlMjBzdHlsZSUzRCUyMmJhY2tncm9
 1bmQtY29sb3IlM0ElMjAlMjNGNEY0RjQlM0IlMjBib3JkZXItcmFkaXVzJTNBJTIwNTAlMjUlM
 0IlMjBoZWlnaHQlM0ElMjAxMi41cHglM0IlMjB3aWR0aCUzQSUyMDEyLjVweCUzQiUyMHRyYW5
 zZm9ybSUzQSUyMHRyYW5zbGF0ZVglMjg5cHglMjklMjB0cmFuc2xhdGVZJTI4LTE4cHglMjklM
 0IlMjIlM0UlM0MlMkZkaXYlM0UlM0MlMkZkaXYlM0UlM0NkaXYlMjBzdHlsZSUzRCUyMm1hcmd
 pbi1sZWZ0JTNBJTIwOHB4JTNCJTIyJTNFJTIwJTNDZGl2JTIwc3R5bGUlM0QlMjIlMjBiYWNrZ
 3JvdW5kLWNvbG9yJTNBJTIwJTIzRjRGNEY0JTNCJTIwYm9yZGVyLXJhZGl1cyUzQSUyMDUwJTI
 1JTNCJTIwZmxleC1ncm93JTNBJTIwMCUzQiUyMGhlaWdodCUzQSUyMDIwcHglM0IlMjB3aWR0a
 CUzQSUyMDIwcHglM0IlMjIlM0UlM0MlMkZkaXYlM0UlMjAlM0NkaXYlMjBzdHlsZSUzRCUyMiU
 yMHdpZHRoJTNBJTIwMCUzQiUyMGhlaWdodCUzQSUyMDAlM0IlMjBib3JkZXItdG9wJTNBJTIwM
 nB4JTIwc29saWQlMjB0cmFuc3BhcmVudCUzQiUyMGJvcmRlci1sZWZ0JTNBJTIwNnB4JTIwc29
 saWQlMjAlMjNmNGY0ZjQlM0IlMjBib3JkZXItYm90dG9tJTNBJTIwMnB4JTIwc29saWQlMjB0c
 mFuc3BhcmVudCUzQiUyMHRyYW5zZm9ybSUzQSUyMHRyYW5zbGF0ZVglMjgxNnB4JTI5JTIwdHJ
 hbnNsYXRlWSUyOC00cHglMjklMjByb3RhdGUlMjgzMGRlZyUyOSUyMiUzRSUzQyUyRmRpdiUzR
 SUzQyUyRmRpdiUzRSUzQ2RpdiUyMHN0eWxlJTNEJTIybWFyZ2luLWxlZnQlM0ElMjBhdXRvJTN
 CJTIyJTNFJTIwJTNDZGl2JTIwc3R5bGUlM0QlMjIlMjB3aWR0aCUzQSUyMDBweCUzQiUyMGJvc
 mRlci10b3AlM0ElMjA4cHglMjBzb2xpZCUyMCUyM0Y0RjRGNCUzQiUyMGJvcmRlci1yaWdodCU
 zQSUyMDhweCUyMHNvbGlkJTIwdHJhbnNwYXJlbnQlM0IlMjB0cmFuc2Zvcm0lM0ElMjB0cmFuc
 2xhdGVZJTI4MTZweCUyOSUzQiUyMiUzRSUzQyUyRmRpdiUzRSUyMCUzQ2RpdiUyMHN0eWxlJTN
 EJTIyJTIwYmFja2dyb3VuZC1jb2xvciUzQSUyMCUyM0Y0RjRGNCUzQiUyMGZsZXgtZ3JvdyUzQ
 SUyMDAlM0IlMjBoZWlnaHQlM0ElMjAxMnB4JTNCJTIwd2lkdGglM0ElMjAxNnB4JTNCJTIwdHJ
 hbnNmb3JtJTNBJTIwdHJhbnNsYXRlWSUyOC00cHglMjklM0IlMjIlM0UlM0MlMkZkaXYlM0UlM
 jAlM0NkaXYlMjBzdHlsZSUzRCUyMiUyMHdpZHRoJTNBJTIwMCUzQiUyMGhlaWdodCUzQSUyMDA
 lM0IlMjBib3JkZXItdG9wJTNBJTIwOHB4JTIwc29saWQlMjAlMjNGNEY0RjQlM0IlMjBib3JkZ
 XItbGVmdCUzQSUyMDhweCUyMHNvbGlkJTIwdHJhbnNwYXJlbnQlM0IlMjB0cmFuc2Zvcm0lM0E
 lMjB0cmFuc2xhdGVZJTI4LTRweCUyOSUyMHRyYW5zbGF0ZVglMjg4cHglMjklM0IlMjIlM0UlM
 0MlMkZkaXYlM0UlM0MlMkZkaXYlM0UlM0MlMkZkaXYlM0UlMjAlM0NkaXYlMjBzdHlsZSUzRCU
 yMmRpc3BsYXklM0ElMjBmbGV4JTNCJTIwZmxleC1kaXJlY3Rpb24lM0ElMjBjb2x1bW4lM0IlM
 jBmbGV4LWdyb3clM0ElMjAxJTNCJTIwanVzdGlmeS1jb250ZW50JTNBJTIwY2VudGVyJTNCJTI
 wbWFyZ2luLWJvdHRvbSUzQSUyMDI0cHglM0IlMjIlM0UlMjAlM0NkaXYlMjBzdHlsZSUzRCUyM
 iUyMGJhY2tncm91bmQtY29sb3IlM0ElMjAlMjNGNEY0RjQlM0IlMjBib3JkZXItcmFkaXVzJTN
 BJTIwNHB4JTNCJTIwZmxleC1ncm93JTNBJTIwMCUzQiUyMGhlaWdodCUzQSUyMDE0cHglM0IlM
 jBtYXJnaW4tYm90dG9tJTNBJTIwNnB4JTNCJTIwd2lkdGglM0ElMjAyMjRweCUzQiUyMiUzRSU
 zQyUyRmRpdiUzRSUyMCUzQ2RpdiUyMHN0eWxlJTNEJTIyJTIwYmFja2dyb3VuZC1jb2xvciUzQ
 SUyMCUyM0Y0RjRGNCUzQiUyMGJvcmRlci1yYWRpdXMlM0ElMjA0cHglM0IlMjBmbGV4LWdyb3c
 lM0ElMjAwJTNCJTIwaGVpZ2h0JTNBJTIwMTRweCUzQiUyMHdpZHRoJTNBJTIwMTQ0cHglM0IlM
 jIlM0UlM0MlMkZkaXYlM0UlM0MlMkZkaXYlM0UlM0MlMkZhJTNFJTNDcCUyMHN0eWxlJTNEJTI
 yJTIwY29sb3IlM0ElMjNjOWM4Y2QlM0IlMjBmb250LWZhbWlseSUzQUFyaWFsJTJDc2Fucy1zZ
 XJpZiUzQiUyMGZvbnQtc2l6ZSUzQTE0cHglM0IlMjBsaW5lLWhlaWdodCUzQTE3cHglM0IlMjB
 tYXJnaW4tYm90dG9tJTNBMCUzQiUyMG1hcmdpbi10b3AlM0E4cHglM0IlMjBvdmVyZmxvdyUzQ
 WhpZGRlbiUzQiUyMHBhZGRpbmclM0E4cHglMjAwJTIwN3B4JTNCJTIwdGV4dC1hbGlnbiUzQWN
 lbnRlciUzQiUyMHRleHQtb3ZlcmZsb3clM0FlbGxpcHNpcyUzQiUyMHdoaXRlLXNwYWNlJTNBb
 m93cmFwJTNCJTIyJTNFJTNDYSUyMGhyZWYlM0QlMjJodHRwcyUzQSUyRiUyRnd3dy5pbnN0YWd
 yYW0uY29tJTJGcmVlbCUyRkRCdUtQbm95ZFV1JTJGJTNGdXRtX3NvdXJjZSUzRGlnX2VtYmVkJ
 TI2YW1wJTNCdXRtX2NhbXBhaWduJTNEbG9hZGluZyUyMiUyMHN0eWxlJTNEJTIyJTIwY29sb3I
 lM0ElMjNjOWM4Y2QlM0IlMjBmb250LWZhbWlseSUzQUFyaWFsJTJDc2Fucy1zZXJpZiUzQiUyM
 GZvbnQtc2l6ZSUzQTE0cHglM0IlMjBmb250LXN0eWxlJTNBbm9ybWFsJTNCJTIwZm9udC13ZWl
 naHQlM0Fub3JtYWwlM0IlMjBsaW5lLWhlaWdodCUzQTE3cHglM0IlMjB0ZXh0LWRlY29yYXRpb
 24lM0Fub25lJTNCJTIyJTIwdGFyZ2V0JTNEJTIyX2JsYW5rJTIyJTNFQSUyMHBvc3QlMjBzaGF
 yZWQlMjBieSUyMENBTE0lMjAlN0MlMjBBQ1BTJTIwJTI4JTQwY2FubGFib3VybWVkaWElMjklM
 0MlMkZhJTNFJTNDJTJGcCUzRSUzQyUyRmRpdiUzRSUzQyUyRmJsb2NrcXVvdGUlM0UlMEElM0N
 zY3JpcHQlMjBhc3luYyUyMHNyYyUzRCUyMiUyRiUyRnd3dy5pbnN0YWdyYW0uY29tJTJGZW1iZ
 WQuanMlMjIlM0UlM0MlMkZzY3JpcHQlM0U=[/vc_raw_html][/vc_column][/vc_row][vc_
 row][vc_column][vc_empty_space height="40px"][vc_custom_heading text="Phot
 o Gallery" font_container="tag:h2|text_align:center" use_theme_fonts="yes"
  css=""][vc_empty_space height="20px"][vc_media_grid gap="15" css="" grid_
 id="vc_gid:1731182152535-3cf3d7f2-b08e-4" include="4001\,4002\,4003\,4004\
 ,4005\,4006"][/vc_column][/vc_row][vc_row][vc_column][vc_empty_space heigh
 t="50px"][/vc_column][/vc_row][vc_row][vc_column][vc_custom_heading text="
 Workshops &amp\; Presenters" font_container="tag:h2|text_align:center" use
 _theme_fonts="yes" css=""][vc_column_text]\n\n\n\n\n\n\nProgressive Financ
 e Policy Research and Knowledge Mobilization\nPublic services in Manitoba 
 continue to feel the strain of $1.6 billion in tax cuts between 2016 - 202
 3. Last year\, the Canadian Centre for Policy Alternatives Manitoba office
  mobilized with labour partners to publish an open letter to Premier Kinew
  calling for increased investment in services like health and education by
  reversing the tax cuts. Learn how this had an impact\, and how CCPA uses 
 research\, commentary and public education to propose alternative public p
 olicy.\n\n\n\n\n\n\n\n[/vc_column_text][vc_column_text css=""]\nPhotograph
 y Workflow and Digital Asset Management (DAM)\nSo you just shot way too ma
 ny photos at an event and you only need eight images for your Facebook pos
 t\, three for your Instagram and two really good ones for your newsletter.
  This workshop will show you a process to quickly review and decide what t
 o keep. It will cover some file-naming schemes\, what do with all these ph
 otos you have on your hard drive and some ideas on how to make your photos
  easily accessible to others inside and outside your organization. This wo
 rkshop primarily covers Adobe software\, but will help you get organized e
 ven if you’re just using the default software on your computer.[/vc_colu
 mn_text][vc_column_text css=""]\nDeveloping a communications strategy for 
 change-makers\nLearn how to develop a communications strategy that will he
 lp your union or social justice organization achieve your mission and acco
 mplish your goals. In this presentation\, you’ll learn about thinking st
 rategically\, why your union needs a communications strategy\, how to over
 come potential challenges when developing a communications strategy\, and 
 more.[/vc_column_text][vc_column_text]\n\n\n\n\n\n\nMedia Relations\nAmp u
 p your media relations work! This workshop by Nora Loreto will show you wa
 ys to get your message into the faces of your members and the public at la
 rge. Learn how to craft a compelling narrative and speak in such a way tha
 t your message rises above the fray!\n\n\n\n\n\n\n\n[/vc_column_text][vc_c
 olumn_text css=""]\n\n\n\n\n\n\nCanva: Tips\, Tricks\, and Templates\nUnio
 ns have rapidly moved to using Canva in their communications work\, but ar
 e you using it its full capacity? In this workshop\, delegates will learn 
 all about Canva and\, importantly\, how to get the most out of your design
  work.\n\n\n\n\n\n\n\n[/vc_column_text][/vc_column][/vc_row][vc_row][vc_co
 lumn][vc_empty_space][/vc_column][/vc_row][vc_row gap="20"][vc_column widt
 h="1/5"][vc_single_image image="3935" img_size="full" alignment="center" s
 tyle="vc_box_circle_2"][vc_column_text]\nMolly McCracken\n[/vc_column_text
 ][/vc_column][vc_column width="1/5"][vc_single_image image="3956" img_size
 ="full" alignment="center" style="vc_box_circle_2" css=""][vc_column_text 
 css=""]\nChris Noto\n[/vc_column_text][/vc_column][vc_column width="1/5"][
 vc_single_image image="3960" img_size="full" alignment="center" style="vc_
 box_circle_2" css=""][vc_column_text css=""]\nEllen Paulley\n[/vc_column_t
 ext][/vc_column][vc_column width="1/5"][vc_single_image image="3936" img_s
 ize="full" alignment="center" style="vc_box_circle_2"][vc_column_text]\nNo
 ra Loreto\n[/vc_column_text][/vc_column][vc_column width="1/5"][vc_single_
 image image="3937" img_size="full" alignment="center" style="vc_box_circle
 _2"][vc_column_text]\nTeuila Mau\n[/vc_column_text][/vc_column][/vc_row][v
 c_row][vc_column][vc_empty_space][/vc_column][/vc_row][vc_row disable_elem
 ent="yes"][vc_column][wgl_timetabs_wrapper][wgl_timetabs_container tab_tit
 le="Event Schedule" tab_sub_title="Winnipeg Mini-Conference" tab_id="17273
 60132366-1eb309ac-bd1d"][wgl_timetabs_item time="9:00am" title="Registrati
 on &amp\; Opening Remarks" button_text="" button_text_color="#232323" butt
 on_text_color_hover="#ffffff" button_bg_color="#ffffff" button_bg_color_ho
 ver="#7c529c" button_border_color="#7c529c" button_border_color_hover="#7c
 529c" description="Join us as we settle in and kick off our full day of le
 arning!"][wgl_timetabs_item time="9:30am" title="Workshop Block 1" button_
 text="" button_text_color="#232323" button_text_color_hover="#ffffff" butt
 on_bg_color="#ffffff" button_bg_color_hover="#7c529c" button_border_color=
 "#7c529c" button_border_color_hover="#7c529c" description="Canva: Tips\, T
 ricks\, and Templates\nMedia Relations"][wgl_timetabs_item time="10:45am" 
 title="Break" button_text="" button_text_color="#232323" button_text_color
 _hover="#ffffff" button_bg_color="#ffffff" button_bg_color_hover="#7c529c"
  button_border_color="#7c529c" button_border_color_hover="#7c529c"][wgl_ti
 metabs_item time="11:00am" title="Workshop Block 2" button_text="" button_
 text_color="#232323" button_text_color_hover="#ffffff" button_bg_color="#f
 fffff" button_bg_color_hover="#7c529c" button_border_color="#7c529c" butto
 n_border_color_hover="#7c529c" description="Developing a communications st
 rategy for change-makers"][wgl_timetabs_item time="12:15pm" title="Lunch" 
 button_text="" button_text_color="#232323" button_text_color_hover="#fffff
 f" button_bg_color="#ffffff" button_bg_color_hover="#7c529c" button_border
 _color="#7c529c" button_border_color_hover="#7c529c" description="Lunch wi
 ll be provided for all attendees."][wgl_timetabs_item time="1:00pm" title=
 "Workshop Block 3" button_text="" button_text_color="#232323" button_text_
 color_hover="#ffffff" button_bg_color="#ffffff" button_bg_color_hover="#7c
 529c" button_border_color="#7c529c" button_border_color_hover="#7c529c" de
 scription="Photography Workflow and Digital Asset Management (DAM)\nBuildi
 ng workers’ power through better building workers’ power events"][wgl_
 timetabs_item time="2:15pm" title="Break" button_text="" button_text_color
 ="#232323" button_text_color_hover="#ffffff" button_bg_color="#ffffff" but
 ton_bg_color_hover="#7c529c" button_border_color="#7c529c" button_border_c
 olor_hover="#7c529c"][wgl_timetabs_item time="2:30pm" title="Workshop Bloc
 k 4" button_text="" button_text_color="#232323" button_text_color_hover="#
 ffffff" button_bg_color="#ffffff" button_bg_color_hover="#7c529c" button_b
 order_color="#7c529c" button_border_color_hover="#7c529c" description="Pro
 gressive Finance Policy Research and Knowledge Mobilization"][wgl_timetabs
 _item time="3:45pm" title="Closing Remarks" button_text="" button_text_col
 or="#232323" button_text_color_hover="#ffffff" button_bg_color="#ffffff" b
 utton_bg_color_hover="#7c529c" button_border_color="#7c529c" button_border
 _color_hover="#7c529c"][/wgl_timetabs_container][/wgl_timetabs_wrapper][/v
 c_column][/vc_row][vc_row disable_element="yes"][vc_column][vc_column_text
  css=""]\nLocation &amp\; Parking\n[/vc_column_text][vc_column_text css=""
 ]The UFCW Local 832 Training Centre is on the second floor at: 880 Portage
  Ave\, Winnipeg\, MB R3G 0P1\n\nParking is behind the building with limite
 d spots available on a first come\, first serve basis. Please do not park 
 in the sports that are labelled as staff spots.\n\nThe residential streets
  adjacent to the Training Centre have time-limited parking (1 or 2 hours).
  There is also residential parking for free all day further South into Wol
 seley which is about 3 blocks away.[/vc_column_text][/vc_column][/vc_row][
 vc_row disable_element="yes"][vc_column][vc_column_text css=""]\nHotels\n[
 /vc_column_text][vc_column_text css=""]CALM staff will be staying at the A
 lt Hotel. Delta Hotels Winnipeg is also within a 10-minute drive from the
  training centre.\n\nIf you are a member\, you can also check out the Unio
 n Savings website for great rates.[/vc_column_text][/vc_column][/vc_row][v
 c_row disable_element="yes"][vc_column][vc_column_text]\nRegistration Form
 \n[/vc_column_text][wpforms id="3872" title="false" description="false"][/
 vc_column][/vc_row][vc_row][vc_column][vc_empty_space][/vc_column][/vc_row
 ]
ATTACH;FMTTYPE=image/jpeg:https://i0.wp.com/uniontraining.ca/wp-content/up
 loads/2024/07/winnipeg-october-24.jpg?fit=1024%2C700&ssl=1
LOCATION:UFCW Local 832 Training Centre\, 880 Portage Ave\, Winnipeg\, MB\,
  R3G 0P1\, Canada
X-APPLE-STRUCTURED-LOCATION;VALUE=URI;X-ADDRESS=880 Portage Ave\, Winnipeg\
 , MB\, R3G 0P1\, Canada;X-APPLE-RADIUS=100;X-TITLE=UFCW Local 832 Training
  Centre:geo:0,0
END:VEVENT
BEGIN:VTIMEZONE
TZID:America/Winnipeg
X-LIC-LOCATION:America/Winnipeg
BEGIN:DAYLIGHT
DTSTART:20240310T030000
TZOFFSETFROM:-0600
TZOFFSETTO:-0500
TZNAME:CDT
END:DAYLIGHT
END:VTIMEZONE
END:VCALENDAR